BEGIN:VCALENDAR
VERSION:2.0
PRODID:-//ChamberMaster//Event Calendar 2.0//EN
METHOD:PUBLISH
X-PUBLISHED-TTL:P3D
REFRESH-INTERVAL:P3D
CALSCALE:GREGORIAN
BEGIN:VEVENT
DTSTART:20181112T170000Z
DTEND:20181112T180000Z
X-MICROSOFT-CDO-ALLDAYEVENT:FALSE
SUMMARY:Women to Women - Coffee & Conversation
DESCRIPTION:Please join us for a mid-month Motivational Monday - Networking and conversation with other women in business over a cup of coffee at the Marquis Community Cafe. \n\n\n\nMotivational Monday is all about sharing ideas and inspiration\, building relationships\, and supporting each other as we strive to meet our goals each month. In the process\, we make new friends\, find amazing referral partners and continue to grow\, both personally and in business.\n\n\n\nThere is no fee to attend and guests are welcome!
X-ALT-DESC;FMTTYPE=text/html:<span style="background-color:rgb(255\, 255\, 255)\; color:rgb(29\, 33\, 41)\; font-family:helvetica\,arial\,sans-serif\; font-size:14px">Please join us for a mid-month Motivational Monday - Networking and conversation with other women in business over a cup of coffee at the Marquis Community Cafe.&nbsp\;</span><br />\n<br />\n<span style="background-color:rgb(255\, 255\, 255)\; color:rgb(29\, 33\, 41)\; font-family:helvetica\,arial\,sans-serif\; font-size:14px">Motivational Monday is all about sharing ideas and inspiration\, building relationships\, and supporting each other as we strive to meet our goals each month. In the process\, we make new friends\, find amazing referral partners and continue to grow\, both personally and in business.</span><br />\n<br />\n<span style="background-color:rgb(255\, 255\, 255)\; color:rgb(29\, 33\, 41)\; font-family:helvetica\,arial\,sans-serif\; font-size:14px">There is no fee to attend and guests are welcome!</span>
LOCATION:Marquis Community Cafe 19805 SW Boones Ferry Rd Tualatin\, OR
UID:e.2305.10000
SEQUENCE:3
DTSTAMP:20260420T154340Z
URL:https://chamber.tualatinchamber.com/events/details/women-to-women-coffee-conversation-10000
END:VEVENT

END:VCALENDAR
