BEGIN:VCALENDAR
VERSION:2.0
PRODID:-//ChamberMaster//Event Calendar 2.0//EN
METHOD:PUBLISH
X-PUBLISHED-TTL:P3D
REFRESH-INTERVAL:P3D
CALSCALE:GREGORIAN
BEGIN:VEVENT
DTSTART:20190610T160000Z
DTEND:20190610T170000Z
X-MICROSOFT-CDO-ALLDAYEVENT:FALSE
SUMMARY:Women to Women - Coffee & Conversation
DESCRIPTION:Ladies\, please join us on Monday\, June 10 for our next Coffee & Conversation!\n\n\n\nWe will have a guided conversation lead by organization expert Jenni Holman\, however the format of the morning will include plenty of time for Open Networking. Come connect with other women in business\, learn from an expert and share your own secrets to staying on task in a crazy busy world. \n\n\n\nWomen to Women meets the second Monday of every month. We come together to network\, collaborate\, share ideas and support one another as women in business.
X-ALT-DESC;FMTTYPE=text/html:<span style="background-color:rgb(255\, 255\, 255)\; color:rgb(29\, 33\, 41)\; font-family:helvetica\,arial\,sans-serif\; font-size:14px">Ladies\, please join us on Monday\, June 10 for our next Coffee &amp\; Conversation!<br />\n<br />\nWe will have a guided conversation lead by organization expert&nbsp\;</span><a class="profileLink" href="https://www.facebook.com/jenni.holman.14?fref=gs&amp\;__tn__=%2CdK-R-R&amp\;eid=ARATkrnUlJEa5Hg10cPj7bzLV_tZkOuNW2bYAPvUKcsJ0I1A33vQFGAsgPcvD31jdtMwqG21ZQpYFRs1&amp\;dti=335649816943843&amp\;hc_location=group" rel="dialog" style="color: rgb(56\, 88\, 152)\; cursor: pointer\; text-decoration-line: none\; font-family: Helvetica\, Arial\, sans-serif\; font-size: 14px\; background-color: rgb(255\, 255\, 255)\;" title="Jenni Holman">Jenni Holman</a><span style="background-color:rgb(255\, 255\, 255)\; color:rgb(29\, 33\, 41)\; font-family:helvetica\,arial\,sans-serif\; font-size:14px">\, however the format of the morning will include plenty of time for Open Networking. Come connect with other women in business\, learn from an expert and share your own secrets to staying on task in a crazy busy world.&nbsp\;<br />\n<br />\nWomen to Women meets the second Monday of every month. We come together to network\, collaborate\, share ideas and support one another as women in business.</span><br />\n&nbsp\;
LOCATION:Marquis Community Cafe 19805 SW Boones Ferry Rd. Tualatin\, OR 97062
UID:e.2305.10234
SEQUENCE:3
DTSTAMP:20260420T100345Z
URL:https://chamber.tualatinchamber.com/events/details/women-to-women-coffee-conversation-06-10-2019-10234
END:VEVENT

END:VCALENDAR
