BEGIN:VCALENDAR
VERSION:2.0
PRODID:-//ChamberMaster//Event Calendar 2.0//EN
METHOD:PUBLISH
X-PUBLISHED-TTL:P3D
REFRESH-INTERVAL:P3D
CALSCALE:GREGORIAN
BEGIN:VEVENT
DTSTART:20190412T003000Z
DTEND:20190412T023000Z
X-MICROSOFT-CDO-ALLDAYEVENT:FALSE
SUMMARY:WIN After Hours Mixer - Wine & Design & The Difference
DESCRIPTION:Please join us for an evening of networking with women in business co-hosted by Wine & Design & The Difference. The bi-monthly Women In Networking (WIN) Mixers offer a fun opportunity for women entrepreneurs\, business owners\, managers\, executives and professionals to network\, form new business relationships and friendships\, share ideas and support one another. Chamber members and guests are welcome to attend. We look forward to connecting with you!
X-ALT-DESC;FMTTYPE=text/html:Please join us for an evening of networking with women in business co-hosted by Wine &amp\; Design &amp\; The Difference. The bi-monthly Women In Networking (WIN) Mixers offer a fun opportunity for women entrepreneurs\, business owners\, managers\, executives and professionals to network\, form new business relationships and friendships\, share ideas and support one another. Chamber members and guests are welcome to attend. We look forward to connecting with you!
LOCATION:Wine & Design 18041 SW Lower Boones Ferry Rd #3 Tigard\, OR 97224
UID:e.2305.10057
SEQUENCE:3
DTSTAMP:20260420T131928Z
URL:https://chamber.tualatinchamber.com/events/details/win-after-hours-mixer-wine-design-the-difference-10057
END:VEVENT

END:VCALENDAR
