BEGIN:VCALENDAR
VERSION:2.0
PRODID:-//ChamberMaster//Event Calendar 2.0//EN
METHOD:PUBLISH
X-PUBLISHED-TTL:P3D
REFRESH-INTERVAL:P3D
CALSCALE:GREGORIAN
BEGIN:VEVENT
DTSTART:20190614T003000Z
DTEND:20190614T023000Z
X-MICROSOFT-CDO-ALLDAYEVENT:FALSE
SUMMARY:WIN After Hours Mixer - McCormick & Schmick's Seafood & Steaks
DESCRIPTION:Please join us for an evening of networking with women in business hosted by McCormick & Schmick's Seafood & Steaks. The bi-monthly Women In Networking (WIN) Mixers offer a fun opportunity for women entrepreneurs\, business owners\, managers\, executives and professionals to network\, form new business relationships and friendships\, share ideas and support one another. Chamber members and guests are welcome to attend. We look forward to connecting with you!
X-ALT-DESC;FMTTYPE=text/html:Please join us for an evening of networking with women in business hosted by McCormick &amp\; Schmick&#39\;s Seafood &amp\; Steaks. The bi-monthly Women In Networking (WIN) Mixers offer a fun opportunity for women entrepreneurs\, business owners\, managers\, executives and professionals to network\, form new business relationships and friendships\, share ideas and support one another. Chamber members and guests are welcome to attend. We look forward to connecting with you!
LOCATION:McCormick & Schmick's Seafood & Steaks 17015 SW 72nd Ave Tigard\, OR 97224
UID:e.2305.10058
SEQUENCE:3
DTSTAMP:20260420T095738Z
URL:https://chamber.tualatinchamber.com/events/details/win-after-hours-mixer-mccormick-schmick-s-seafood-steaks-10058
END:VEVENT

END:VCALENDAR
