BEGIN:VCALENDAR
VERSION:2.0
PRODID:-//ChamberMaster//Event Calendar 2.0//EN
METHOD:PUBLISH
X-PUBLISHED-TTL:P3D
REFRESH-INTERVAL:P3D
CALSCALE:GREGORIAN
BEGIN:VEVENT
DTSTART:20190222T013000Z
DTEND:20190222T033000Z
X-MICROSOFT-CDO-ALLDAYEVENT:FALSE
SUMMARY:WIN After Hours Mixer - Barbara Johnson Clothing
DESCRIPTION:Please join us for an evening of networking with women in business at Barbara Johnson Clothing on February 21st. The bi-monthly Women In Networking (WIN) Mixers offer a fun opportunity for women entrepreneurs\, business owners\, managers\, executives and professionals to network\, form new business relationships and friendships\, share ideas and support one another. Chamber members and guests are welcome to attend. We look forward to connecting with you!
X-ALT-DESC;FMTTYPE=text/html:Please join us for an evening of networking with women in business at Barbara Johnson Clothing on February 21<sup>st</sup>. The bi-monthly Women In Networking (WIN) Mixers offer a fun opportunity for women entrepreneurs\, business owners\, managers\, executives and professionals to network\, form new business relationships and friendships\, share ideas and support one another. Chamber members and guests are welcome to attend. We look forward to connecting with you!
LOCATION:Barbara Johnson Clothing 19241 SW Martinazzi Ave Tualatin\, OR 97062
UID:e.2305.10056
SEQUENCE:3
DTSTAMP:20260420T162851Z
URL:https://chamber.tualatinchamber.com/events/details/win-after-hours-mixer-barbara-johnson-clothing-10056
END:VEVENT

END:VCALENDAR
