BEGIN:VCALENDAR
VERSION:2.0
PRODID:-//ChamberMaster//Event Calendar 2.0//EN
METHOD:PUBLISH
X-PUBLISHED-TTL:P3D
REFRESH-INTERVAL:P3D
CALSCALE:GREGORIAN
BEGIN:VEVENT
DTSTART:20181012T003000Z
DTEND:20181012T023000Z
X-MICROSOFT-CDO-ALLDAYEVENT:FALSE
SUMMARY:WIN After Hours Mixer
DESCRIPTION:Sponsored by: Riverview Community Bank\n\n\n\nJoin us for our quarterly Women in Networking After Hours Mixer. It is sure to be an evening of business connections and inspiration full of business women and entrepreneurs making their mark on the world\, just like you!\n\n\n\nOur program will include open networking\, self-introductions for all attendees\, a little bit of organized networking\, and more. \n\n\n\nHosted by: Liz Hatcher\, Jackie427 & Nikki Wilson\, NJW Property Management
X-ALT-DESC;FMTTYPE=text/html:<div style="border: currentcolor\; font-family: Verdana\, Geneva\, sans-serif\; font-size: 14px\; margin: 0px\; outline: 0px\; padding: 0px\; vertical-align: baseline\; bottom: auto\; box-sizing: content-box\; clear: none\; color: rgb(48\, 48\, 48)\; content: normal\; direction: inherit\; empty-cells: show\; float: none\; font-variant-numeric: inherit\; font-variant-east-asian: inherit\; font-stretch: inherit\; left: auto\; line-height: inherit\; max-height: none\; max-width: none\; min-height: initial\; min-width: initial\; opacity: 1\; outline-offset: 0px\; overflow: visible\; position: static\; resize: none\; right: auto\; table-layout: auto\; text-overflow: clip\; top: auto\; visibility: inherit\; white-space: pre-wrap\; word-break: inherit\; word-wrap: inherit\; z-index: auto\; background: rgb(247\, 247\, 247)\; border-collapse: separate\; border-radius: 0px\; height: auto\; width: auto\; box-shadow: none\;"><span style="font-family:arial\;">Sponsored by: Riverview Community Bank<br />\n<br />\nJoin us for our quarterly Women in Networking After Hours Mixer. It is sure to be an evening of business connections and inspiration full of business women and entrepreneurs making their mark on the world\, just like you!<br />\n<br />\nOur program will include open networking\, self-introductions for all attendees\, a little bit of organized networking\, and more.&nbsp\;<br />\n<br />\nHosted by: Liz Hatcher\, Jackie427 &amp\; Nikki Wilson\, NJW Property Management</span></div>\n
LOCATION:Non La Restaurant & Bar 18041 SW Lower Boones Ferry Rd Tigard\, OR 97224
UID:e.2305.8932
SEQUENCE:3
DTSTAMP:20260420T152523Z
URL:https://chamber.tualatinchamber.com/events/details/win-after-hours-mixer-8932
END:VEVENT

END:VCALENDAR
