BEGIN:VCALENDAR
VERSION:2.0
PRODID:-//ChamberMaster//Event Calendar 2.0//EN
METHOD:PUBLISH
X-PUBLISHED-TTL:P3D
REFRESH-INTERVAL:P3D
CALSCALE:GREGORIAN
BEGIN:VEVENT
DTSTART:20181117T150000Z
DTEND:20181118T040000Z
X-MICROSOFT-CDO-ALLDAYEVENT:FALSE
SUMMARY:Vitality Bowl's 1st Anniversary
DESCRIPTION:Vitality Bowls is celebrating our first year of business in Tualatin.  Thank you to the community\, our customers\, and our team members for helping to make this first year a big success!  We are proud to have taken a role in educating the community about the importance of living a healthy lifestyle and the role that nutritionally powerful food plays in that equation.  We enter our second year with a continued focus on serving super healthy\, all natural\, delicious\, and beautiful food to the community.  We will also continue our absolute focus on providing safe food for those with food allergies. We look forward to continuing to take a role in helping Tualatin and our surrounding communities fuel good so they feel good!
X-ALT-DESC;FMTTYPE=text/html:<span style="font-family:arial\;"><span style="color: rgb(0\, 0\, 0)\; font-size: 12px\;">Vitality Bowls is celebrating our first year of business in Tualatin.&nbsp\; Thank you to the community\, our customers\, and our team members for helping to make this first year a big success!&nbsp\; We are proud to have taken a role in educating the community about the importance of living a healthy lifestyle and the role that nutritionally powerful food plays in that equation.&nbsp\; We enter our second year with a continued focus on serving super healthy\, all natural\, delicious\, and beautiful food to the community.&nbsp\; We will also continue our absolute focus on providing safe food for those with food allergies. We look forward to continuing to take a role in helping Tualatin and our surrounding communities fuel good so they feel good!</span></span>
LOCATION:7935 SW Nyberg St Tualatin\, OR 97062
UID:e.2305.10001
SEQUENCE:3
DTSTAMP:20260420T153419Z
URL:https://chamber.tualatinchamber.com/events/details/vitality-bowl-s-1st-anniversary-10001
END:VEVENT

END:VCALENDAR
