BEGIN:VCALENDAR
VERSION:2.0
PRODID:-//ChamberMaster//Event Calendar 2.0//EN
METHOD:PUBLISH
X-PUBLISHED-TTL:P3D
REFRESH-INTERVAL:P3D
CALSCALE:GREGORIAN
BEGIN:VEVENT
DTSTART:20181110T180000Z
DTEND:20181110T194500Z
X-MICROSOFT-CDO-ALLDAYEVENT:FALSE
SUMMARY:Violence Prevention
DESCRIPTION:American Association of University Women Lake Oswego presents Kristin Schlotterbeck\, Community Education Program Manager for Clackamas Women's Services\, on "Violence Prevention: A Program for Middle and High School Students."
X-ALT-DESC;FMTTYPE=text/html:American Association of University Women Lake Oswego presents Kristin Schlotterbeck\, Community Education Program Manager for Clackamas Women&#39\;s Services\, on &quot\;Violence Prevention: A Program for Middle and High School Students.&quot\;
LOCATION:Oswego Heritage House 398 10th St. Lake Oswego\, OR 97034
UID:e.2305.9972
SEQUENCE:3
DTSTAMP:20260420T152609Z
URL:https://chamber.tualatinchamber.com/events/details/violence-prevention-9972
END:VEVENT

END:VCALENDAR
