BEGIN:VCALENDAR
VERSION:2.0
PRODID:-//ChamberMaster//Event Calendar 2.0//EN
METHOD:PUBLISH
X-PUBLISHED-TTL:P3D
REFRESH-INTERVAL:P3D
CALSCALE:GREGORIAN
BEGIN:VEVENT
DTSTART:20180314T010000Z
DTEND:20180314T030000Z
X-MICROSOFT-CDO-ALLDAYEVENT:FALSE
SUMMARY:Viking River Cruise Night
DESCRIPTION:Please join us at Expedia CruiseShipCenters in Wilsonville with John Jerkovich from Viking River Cruises for a fun and informative evening.  Whether you've dreamed of exploring the historical cities of Europe or experiencing the spectacular cultures of Asia\, Viking has a river cruise for you!\n\n\n\nPlus\, book your Viking River Cruise March 12-31 & get an exclusive $200 onboard cash credit!\n\n\n\nWine and cheese will be served at 6pm!\n\n\n\nSpace is Limited - Please RSVP today!
X-ALT-DESC;FMTTYPE=text/html:Please join us at Expedia CruiseShipCenters in Wilsonville with John Jerkovich from Viking River Cruises for a fun and informative evening.&nbsp\; Whether you&#39\;ve dreamed of exploring the historical cities of Europe or experiencing the spectacular cultures of Asia\, Viking has a river cruise for you!<br />\n<br />\nPlus\, book your Viking River Cruise March 12-31 &amp\; get an exclusive $200 onboard cash credit!<br />\n<br />\nWine and cheese will be served at 6pm!<br />\n<br />\nSpace is Limited - Please RSVP today!
LOCATION:25700 SW Argyle Ave Suite C Wilsonville\, OR 97070
UID:e.2305.9022
SEQUENCE:3
DTSTAMP:20260423T061810Z
URL:https://chamber.tualatinchamber.com/events/details/viking-river-cruise-night-9022
END:VEVENT

END:VCALENDAR
