BEGIN:VCALENDAR
VERSION:2.0
PRODID:-//ChamberMaster//Event Calendar 2.0//EN
METHOD:PUBLISH
X-PUBLISHED-TTL:P3D
REFRESH-INTERVAL:P3D
CALSCALE:GREGORIAN
BEGIN:VEVENT
DTSTART:20190729T020000Z
DTEND:20190729T033000Z
X-MICROSOFT-CDO-ALLDAYEVENT:FALSE
SUMMARY:TVCB Summer Concert
DESCRIPTION:The Tualatin Valley Community Band closes its 30th Anniversary Year with our Summer Concert on Sunday\, July 28 at 7 pm at the Bishop-Scheckla Gazebo in Cook Park. TVCB Music Director Kevin Soon has a toe-tapping playlist ready for our audience. The Bishop-Scheckla Gazebo is an outdoor Carnegie Hall\, not a bad seat in the house! Bring a chair and some snacks to enjoy live music! The Tualatin Valley Community Band is composed of volunteer individuals who have played\, or are currently playing\, musical instruments in middle school\, high school\, college\, or other performance groups. More information about the band and the "Summer Concert" is available at www.tvcb.org. Please join us for a fun evening of live music for all ages!
X-ALT-DESC;FMTTYPE=text/html:The Tualatin Valley Community Band closes its 30th Anniversary Year with our Summer Concert on Sunday\, July 28 at 7 pm at the Bishop-Scheckla Gazebo in Cook Park. TVCB Music Director Kevin Soon has a toe-tapping playlist ready for our audience. The Bishop-Scheckla Gazebo is an outdoor Carnegie Hall\, not a bad seat in the house! Bring a chair and some snacks to enjoy live music! The Tualatin Valley Community Band is composed of volunteer individuals who have played\, or are currently playing\, musical instruments in middle school\, high school\, college\, or other performance groups. More information about the band and the &ldquo\;Summer Concert&rdquo\; is available at www.tvcb.org. Please join us for a fun evening of live music for all ages!
LOCATION:Bishop-Scheckla Gazebo in Cook Park (17005 SW 92nd Avenue\, Tigard\, OR 97224)
UID:e.2305.10261
SEQUENCE:3
DTSTAMP:20260420T080450Z
URL:https://chamber.tualatinchamber.com/events/details/tvcb-summer-concert-07-28-2019-10261
END:VEVENT

END:VCALENDAR
