BEGIN:VCALENDAR
VERSION:2.0
PRODID:-//ChamberMaster//Event Calendar 2.0//EN
METHOD:PUBLISH
X-PUBLISHED-TTL:P3D
REFRESH-INTERVAL:P3D
CALSCALE:GREGORIAN
BEGIN:VEVENT
DTSTART:20190610T020000Z
DTEND:20190610T040000Z
X-MICROSOFT-CDO-ALLDAYEVENT:FALSE
SUMMARY:Tualatin Valley Symphony - Oregon Composers Concert
DESCRIPTION:Join us for the final concert of the season featuring music entirely by Oregon composers\, including the official overture of the city of Tualatin\, composed by Tualatin Chamber member Arthur Breur!\n\n\n\nErnest Bloch\n\nConcerto Grosso for String Orchestra with Piano Obbligato - Cassie Fry\, Pianist\n\n\n\nArthur Breur\n\nTualatin Overture\n\n\n\nNicole Buetti\n\nOdyssey Overture\n\n\n\nAndrew Poole Todd\n\nMusic for Strings\n\n\n\nKevin Walczyk\n\nCelebration Fanfare\n\n\n\nBill Whitley\n\nBonzai Down
X-ALT-DESC;FMTTYPE=text/html:<span style="color:rgb(29\, 33\, 41)\; font-family:helvetica\,arial\,sans-serif\; font-size:14px">Join us for the final concert of the season featuring music entirely by Oregon composers\, including the official overture of the city of Tualatin\, composed by Tualatin Chamber member Arthur Breur!</span><br />\n<br />\n<span style="color:rgb(29\, 33\, 41)\; font-family:helvetica\,arial\,sans-serif\; font-size:14px">Ernest Bloch</span><br />\n<span style="color:rgb(29\, 33\, 41)\; font-family:helvetica\,arial\,sans-serif\; font-size:14px">Concerto Grosso for String Orchestra with Piano Obbligato - Cassie Fry\, Pianist</span><br />\n<br />\n<span style="color:rgb(29\, 33\, 41)\; font-family:helvetica\,arial\,sans-serif\; font-size:14px">Arthur Breur</span><br />\n<span style="color:rgb(29\, 33\, 41)\; font-family:helvetica\,arial\,sans-serif\; font-size:14px">Tualatin Overture</span><br />\n<br />\n<span style="color:rgb(29\, 33\, 41)\; font-family:helvetica\,arial\,sans-serif\; font-size:14px">Nicole Buetti</span><br />\n<span style="color:rgb(29\, 33\, 41)\; font-family:helvetica\,arial\,sans-serif\; font-size:14px">Odyssey Overture</span><br />\n<br />\n<span style="color:rgb(29\, 33\, 41)\; font-family:helvetica\,arial\,sans-serif\; font-size:14px">Andrew Poole Todd</span><br />\n<span style="color:rgb(29\, 33\, 41)\; font-family:helvetica\,arial\,sans-serif\; font-size:14px">Music for Strings</span><br />\n<br />\n<span style="color:rgb(29\, 33\, 41)\; font-family:helvetica\,arial\,sans-serif\; font-size:14px">Kevin Walczyk</span><br />\n<span style="color:rgb(29\, 33\, 41)\; font-family:helvetica\,arial\,sans-serif\; font-size:14px">Celebration Fanfare</span><br />\n<br />\n<span style="color:rgb(29\, 33\, 41)\; font-family:helvetica\,arial\,sans-serif\; font-size:14px">Bill Whitley</span><br />\n<span style="color:rgb(29\, 33\, 41)\; font-family:helvetica\,arial\,sans-serif\; font-size:14px">Bonzai Down</span>
LOCATION:Living Savior Lutheran Church Tualatin 8740 SW Sagert St\, Tualatin\, Oregon 97062
UID:e.2305.10219
SEQUENCE:3
DTSTAMP:20260420T095906Z
URL:https://chamber.tualatinchamber.com/events/details/tualatin-valley-symphony-oregon-composers-concert-10219
END:VEVENT

END:VCALENDAR
