BEGIN:VCALENDAR
VERSION:2.0
PRODID:-//ChamberMaster//Event Calendar 2.0//EN
METHOD:PUBLISH
X-PUBLISHED-TTL:P3D
REFRESH-INTERVAL:P3D
CALSCALE:GREGORIAN
BEGIN:VEVENT
DTSTART:20190211T030000Z
DTEND:20190211T053000Z
X-MICROSOFT-CDO-ALLDAYEVENT:FALSE
SUMMARY:Tualatin Valley Symphony in Concert
DESCRIPTION:Join us for the second concert of the 2018-2019 season featuring local cellist Diane Chaplin\n\n	Copland - Appalachian Spring\n	Korngold - Cello Concerto - Diane Chaplin\, cello\n	Bloch - Prayer for Cello and Orchestra (arrangement by Diane Chaplin)
X-ALT-DESC;FMTTYPE=text/html:Join us for the second concert of the 2018-2019 season featuring local cellist Diane Chaplin\n<ul>\n	<li>Copland - Appalachian Spring</li>\n	<li>Korngold - Cello Concerto - Diane Chaplin\, cello</li>\n	<li>Bloch - Prayer for Cello and Orchestra (arrangement by Diane Chaplin)</li>\n</ul>\n
LOCATION:Living Savior Lutheran Church 8740 SW Sagert St Tualatin\, OR 97062
UID:e.2305.9996
SEQUENCE:3
DTSTAMP:20260420T163030Z
URL:https://chamber.tualatinchamber.com/events/details/tualatin-valley-symphony-in-concert-02-10-2019-9996
END:VEVENT

END:VCALENDAR
