BEGIN:VCALENDAR
VERSION:2.0
PRODID:-//ChamberMaster//Event Calendar 2.0//EN
METHOD:PUBLISH
X-PUBLISHED-TTL:P3D
REFRESH-INTERVAL:P3D
CALSCALE:GREGORIAN
BEGIN:VEVENT
DTSTART:20191025T153000Z
DTEND:20191026T000000Z
X-MICROSOFT-CDO-ALLDAYEVENT:FALSE
SUMMARY:Transformational Leadership Training
DESCRIPTION:Transformational Leadership is one of the world's most impactful training programs that has been proven to solve complex business and interpersonal issues with straightforward practical solutions.\n\nLearn Leadership Skills to...\n\n	Identify the Constraints Impacting your ROI\n	Handle Conflict and Costly Personnel Issues\n	Build & Sustain High-Performance Teams\n	Succeed in a Dynamic Environment of Change\n	Deliver Projects on Time and Under Budget\n	Communicate Effectively Across Cultures and Generations\n	Complete and Execute an Action Plan for Success\n\nYou are guaranteed to leave with the ingredients\, tools\, and recipe to gain influence\, drive teamwork\, remove constraints\, and empower growth!
X-ALT-DESC;FMTTYPE=text/html:Transformational Leadership is one of the world&#39\;s most impactful training programs that has been proven to solve complex business and interpersonal issues with straightforward practical solutions.<br />\nLearn Leadership Skills to...\n<ul>\n	<li>Identify the Constraints Impacting your ROI</li>\n	<li>Handle Conflict and Costly Personnel Issues</li>\n	<li>Build &amp\; Sustain High-Performance Teams</li>\n	<li>Succeed in a Dynamic Environment of Change</li>\n	<li>Deliver Projects on Time and Under Budget</li>\n	<li>Communicate Effectively Across Cultures and Generations</li>\n	<li>Complete and Execute an Action Plan for Success</li>\n</ul>\nYou are guaranteed to leave with the ingredients\, tools\, and recipe to gain influence\, drive teamwork\, remove constraints\, and empower growth!
LOCATION:Marquis Center\, 19805 SW Boones Ferry Road Tualatin\, OR 97062
UID:e.2305.10415
SEQUENCE:3
DTSTAMP:20260420T195928Z
URL:https://chamber.tualatinchamber.com/events/details/transformational-leadership-training-10-25-2019-10415
END:VEVENT

END:VCALENDAR
