BEGIN:VCALENDAR
VERSION:2.0
PRODID:-//ChamberMaster//Event Calendar 2.0//EN
METHOD:PUBLISH
X-PUBLISHED-TTL:P3D
REFRESH-INTERVAL:P3D
CALSCALE:GREGORIAN
BEGIN:VEVENT
DTSTART:20181114T170000Z
DTEND:20181116T020000Z
X-MICROSOFT-CDO-ALLDAYEVENT:FALSE
SUMMARY:Transformational Leadership Seminar
DESCRIPTION:Julie Sies of  TL  Northwest to host  Transformational Leadership with global business strategist Ford Taylor\n\n\n\nTransformational Leadership founder Ford Taylor will conduct a 2-day training event guaranteed to drive unity\, remove constraints\, and empower growth in any relationship and organization. About TL: TL is for anyone in a position of influence. TL teaches not only the "what" of being an effective leader personally and professionally\, but more importantly the "how" using a unique proprietary system. You are guaranteed to leave with the ingredients\, tools and recipe for gaining great influence and effectiveness. Moreover\, TL uses a common language for dealing with conflicts and difficult issues which is replicable throughout an organization for maximum results. \n\n\n\nHERE ARE SOME OF THE TOPICS ADDRESSED DURING THE TRAINING\n\n     Employee relationships\n\n     "Operations team" versus "Sales team" mentality\n\n     Growth versus sustaining revenue\n\n     High Employee Turnover\n\n     Hiring and firing \n\n     Cash Flow\n\n     Personal and Organizational constraints\n\n     Delegating and empowering\n\n     Productive teams\n\n     Dealing with difficult colleagues and clients \n\n     Leadership Skills\n\n\n\nTL Global: Transformational Leadership has been implemented in communities\, businesses\, and governments all over the world. It has been adopted by the United States Air Force\, has revolutionized multiple communities and governments in African countries\, is embraced nationally by the YMCA\, and is esteemed by businesses world-wide.
X-ALT-DESC;FMTTYPE=text/html:Julie Sies of &nbsp\;TL &nbsp\;Northwest to host &nbsp\;Transformational Leadership with global business strategist Ford Taylor<br />\n<br />\nTransformational Leadership founder Ford Taylor will conduct a 2-day training event guaranteed to drive unity\, remove constraints\, and empower growth in any relationship and organization.&nbsp\;About TL: TL is for anyone in a position of influence. TL teaches not only the &ldquo\;what&rdquo\; of being an effective leader personally and professionally\, but more importantly the &ldquo\;how&rdquo\; using a unique proprietary system. You are guaranteed to leave with the ingredients\, tools and recipe for gaining great influence and effectiveness. Moreover\, TL uses a common language for dealing with conflicts and difficult issues which is replicable throughout an organization for maximum results.&nbsp\;<br />\n<br />\nHERE ARE SOME OF THE TOPICS ADDRESSED DURING THE TRAINING<br />\n&nbsp\;&nbsp\;&nbsp\; &nbsp\;Employee relationships<br />\n&nbsp\;&nbsp\;&nbsp\; &nbsp\;&ldquo\;Operations team&rdquo\; versus &ldquo\;Sales team&rdquo\; mentality<br />\n&nbsp\;&nbsp\;&nbsp\; &nbsp\;Growth versus sustaining revenue<br />\n&nbsp\;&nbsp\;&nbsp\; &nbsp\;High Employee Turnover<br />\n&nbsp\;&nbsp\;&nbsp\; &nbsp\;Hiring and firing&nbsp\;<br />\n&nbsp\;&nbsp\;&nbsp\; &nbsp\;Cash Flow<br />\n&nbsp\;&nbsp\;&nbsp\; &nbsp\;Personal and Organizational constraints<br />\n&nbsp\;&nbsp\;&nbsp\; &nbsp\;Delegating and empowering<br />\n&nbsp\;&nbsp\;&nbsp\; &nbsp\;Productive teams<br />\n&nbsp\;&nbsp\;&nbsp\; &nbsp\;Dealing with difficult colleagues and clients&nbsp\;<br />\n&nbsp\;&nbsp\;&nbsp\; &nbsp\;Leadership Skills<br />\n<br />\nTL Global: Transformational Leadership has been implemented in communities\, businesses\, and governments all over the world. It has been adopted by the United States Air Force\, has revolutionized multiple communities and governments in African countries\, is embraced nationally by the YMCA\, and is esteemed by businesses world-wide.&nbsp\;<br />\n&nbsp\;
LOCATION:Portland Christian Center\, Training Center 5700 SW Dosch Road Portland\, OR 97239
UID:e.2305.9970
SEQUENCE:3
DTSTAMP:20260420T152703Z
URL:https://chamber.tualatinchamber.com/events/details/transformational-leadership-seminar-9970
END:VEVENT

END:VCALENDAR
