BEGIN:VCALENDAR
VERSION:2.0
PRODID:-//ChamberMaster//Event Calendar 2.0//EN
METHOD:PUBLISH
X-PUBLISHED-TTL:P3D
REFRESH-INTERVAL:P3D
CALSCALE:GREGORIAN
BEGIN:VEVENT
DTSTART:20190417T170000Z
DTEND:20190417T220000Z
X-MICROSOFT-CDO-ALLDAYEVENT:FALSE
SUMMARY:Training: Long-Term Care Ombudsman
DESCRIPTION:A five-day training beginning April 17 will be held in Tigard for Certified Ombudsman Volunteers. Ombudsman are advocates for your family\, friends\, and neighbors living in Nursing Homes\, Memory Care\, Assisted Living and Adult Foster homes. Become someone who can help be a problem solver and advocate for many who cannot speak for themselves. Call the office at 503-378-6303 for more information or to apply. To attend the training\, an application must be submitted\, an interview conducted\, and a criminal background check completed. Applications due before April 1\, 2019. Location of Training: Tigard\, OR Dates: April 17\, 18\, 19\, 24\, 25\, 2019 Time: 10AM - 3PM
X-ALT-DESC;FMTTYPE=text/html:A five-day training beginning April 17 will be held in Tigard for Certified Ombudsman Volunteers. Ombudsman are advocates for your family\, friends\, and neighbors living in Nursing Homes\, Memory Care\, Assisted Living and Adult Foster homes. Become someone who can help be a problem solver and advocate for many who cannot speak for themselves. Call the office at 503-378-6303 for more information or to apply. To attend the training\, an application must be submitted\, an interview conducted\, and a criminal background check completed. Applications due before April 1\, 2019. Location of Training: Tigard\, OR Dates: April 17\, 18\, 19\, 24\, 25\, 2019 Time: 10AM - 3PM
LOCATION:Tigard\, OR
UID:e.2305.10194
SEQUENCE:3
DTSTAMP:20260420T132223Z
URL:https://chamber.tualatinchamber.com/events/details/training-long-term-care-ombudsman-10194
END:VEVENT

END:VCALENDAR
