BEGIN:VCALENDAR
VERSION:2.0
PRODID:-//ChamberMaster//Event Calendar 2.0//EN
METHOD:PUBLISH
X-PUBLISHED-TTL:P3D
REFRESH-INTERVAL:P3D
CALSCALE:GREGORIAN
BEGIN:VEVENT
DTSTART:20281108T200000Z
DTEND:20281108T210000Z
X-MICROSOFT-CDO-ALLDAYEVENT:FALSE
SUMMARY:Titanium Committee Monthly Meeting
DESCRIPTION:
X-ALT-DESC;FMTTYPE=text/html:
LOCATION:
UID:e.2305.13363
SEQUENCE:3
DTSTAMP:20260424T134952Z
URL:https://chamber.tualatinchamber.com/events/details/titanium-committee-monthly-meeting-11-08-2028-13363
END:VEVENT

END:VCALENDAR
