BEGIN:VCALENDAR
VERSION:2.0
PRODID:-//ChamberMaster//Event Calendar 2.0//EN
METHOD:PUBLISH
X-PUBLISHED-TTL:P3D
REFRESH-INTERVAL:P3D
CALSCALE:GREGORIAN
BEGIN:VEVENT
DTSTART:20290314T190000Z
DTEND:20290314T200000Z
X-MICROSOFT-CDO-ALLDAYEVENT:FALSE
SUMMARY:Titanium Committee Monthly Meeting
DESCRIPTION:
X-ALT-DESC;FMTTYPE=text/html:
LOCATION:
UID:e.2305.13367
SEQUENCE:3
DTSTAMP:20260424T203505Z
URL:https://chamber.tualatinchamber.com/events/details/titanium-committee-monthly-meeting-03-14-2029-13367
END:VEVENT

END:VCALENDAR
