BEGIN:VCALENDAR
VERSION:2.0
PRODID:-//ChamberMaster//Event Calendar 2.0//EN
METHOD:PUBLISH
X-PUBLISHED-TTL:P3D
REFRESH-INTERVAL:P3D
CALSCALE:GREGORIAN
BEGIN:VEVENT
DTSTART:20200402T180000Z
DTEND:20200403T040000Z
X-MICROSOFT-CDO-ALLDAYEVENT:FALSE
SUMMARY:Tigard/Tualatin Area Relay For Life Fundraiser at Sweet Tomatoes
DESCRIPTION:Come and support 2020 Tigard/Tualatin Area Relay For Life by dinning at Sweet Tomatoes all day on Thursday April 2nd. They will be donating back 20% of proceeds to support Tigard / Tualatin Relay for Life.
X-ALT-DESC;FMTTYPE=text/html:Come and support 2020 Tigard/Tualatin Area Relay For Life by dinning at Sweet Tomatoes all day on Thursday April 2nd. They will be donating back 20% of proceeds to support Tigard / Tualatin Relay for Life.
LOCATION:Sweet Tomatoes (Tigard) 6600 SW Cardinal Ln Tigard\, Oregon 97224
UID:e.2305.10553
SEQUENCE:3
DTSTAMP:20260420T173212Z
URL:https://chamber.tualatinchamber.com/events/details/tigard-tualatin-area-relay-for-life-fundraiser-at-sweet-tomatoes-10553
END:VEVENT

END:VCALENDAR
