BEGIN:VCALENDAR
VERSION:2.0
PRODID:-//ChamberMaster//Event Calendar 2.0//EN
METHOD:PUBLISH
X-PUBLISHED-TTL:P3D
REFRESH-INTERVAL:P3D
CALSCALE:GREGORIAN
BEGIN:VEVENT
DTSTART:20190713T170000Z
DTEND:20190714T170000Z
X-MICROSOFT-CDO-ALLDAYEVENT:FALSE
SUMMARY:Tigard/Tualatin Area Relay For Life
DESCRIPTION:The American Cancer Society is the nationwide\, community-based\, voluntary health organization dedicated to eliminating cancer as a major health problem by preventing cancer\, saving lives\, and diminishing suffering from cancer\, through research\, education\, advocacy\, and service. Relay For Life is the American Cancer Society's major fundraiser. Serving Tigard\, Tualatin\, Beaverton\, Lake Oswego\, Sherwood and Wilsonville.
X-ALT-DESC;FMTTYPE=text/html:The American Cancer Society is the nationwide\, community-based\, voluntary health organization dedicated to eliminating cancer as a major health problem by preventing cancer\, saving lives\, and diminishing suffering from cancer\, through research\, education\, advocacy\, and service. Relay For Life is the American Cancer Society&#39\;s major fundraiser. Serving Tigard\, Tualatin\, Beaverton\, Lake Oswego\, Sherwood and Wilsonville.
LOCATION:Fowler Middle School 10865 SW Walnut St Tigard\, OR 97223
UID:e.2305.10232
SEQUENCE:3
DTSTAMP:20260420T080449Z
URL:https://chamber.tualatinchamber.com/events/details/tigard-tualatin-area-relay-for-life-10232
END:VEVENT

END:VCALENDAR
