BEGIN:VCALENDAR
VERSION:2.0
PRODID:-//ChamberMaster//Event Calendar 2.0//EN
METHOD:PUBLISH
X-PUBLISHED-TTL:P3D
REFRESH-INTERVAL:P3D
CALSCALE:GREGORIAN
BEGIN:VEVENT
DTSTART:20181115T150000Z
DTEND:20181115T170000Z
X-MICROSOFT-CDO-ALLDAYEVENT:FALSE
SUMMARY:The Business of the Business: Thrive Business Education Forum
DESCRIPTION:Most business owners know how to deliver their products and services with excellence. That's why they got into the business in the first place. And yet\, too many of them struggle to achieve the promised outcomes of their business.\n\n\n\nSome businesses are the victims of their own success\, and others never seem to be able to pick their heads up from the daily grind. \n\n\n\nWhat's missing? These businesses have not focused on doing longer-term planning\, discipline in executing that plan\, and responding to the marketplace in smart ways.\n\n\n\nTracey Snoyer - Founder of Cascade Alliance\n\nTracey will inspire you to own your business in smart ways\, offering case studies\, tips\, tricks\, and approaches to declaring the business you say you want\, and generating it. \n\n\n\nJoin us on the third Thursday of each month for networking\, great food and high quality business education:\n\n	For all chamber members\,\n	For businesses of all sizes\,\n	On a variety of practical topics\,\n	To provide tools attendees can apply immediately\,\n	To help our businesses be more successful.
X-ALT-DESC;FMTTYPE=text/html:<span style="font-size: 14px\;"><span style="font-family: arial\;">Most business owners know how to deliver their products and services with excellence. That&#39\;s why they got into the business in the first place. And yet\, too many of them struggle to achieve the promised outcomes of their business.<br />\n<br />\nSome businesses are the victims of their own success\, and others never seem to be able to pick their heads up from the daily grind.&nbsp\;<br />\n<br />\nWhat&#39\;s missing? These businesses have not focused on doing longer-term planning\, discipline in executing that plan\, and responding to the marketplace in smart ways.<br />\n<br />\n<em>Tracey Snoyer - Founder of Cascade Alliance</em><br />\nTracey will inspire you to own your business in smart ways\, offering case studies\, tips\, tricks\, and approaches to declaring the business you say you want\, and generating it.&nbsp\;<br />\n<br />\nJoin us on the third Thursday of each month for networking\, great food and high quality business education:</span></span>\n<ul>\n	<li><span style="font-size: 14px\;"><span style="font-family: arial\;">For all chamber members\,</span></span></li>\n	<li><span style="font-size: 14px\;"><span style="font-family: arial\;">For businesses of all sizes\,</span></span></li>\n	<li><span style="font-size: 14px\;"><span style="font-family: arial\;">On a variety of practical topics\,</span></span></li>\n	<li><span style="font-size: 14px\;"><span style="font-family: arial\;">To provide tools attendees can apply immediately\,</span></span></li>\n	<li><span style="font-size: 14px\;"><span style="font-family: arial\;">To help our businesses be more successful.</span></span></li>\n</ul>\n
LOCATION:Century Hotel 8185 SW Tualatin-Sherwood Rd Tualatin\, OR 97062
UID:e.2305.8937
SEQUENCE:3
DTSTAMP:20260420T173243Z
URL:https://chamber.tualatinchamber.com/events/details/the-business-of-the-business-thrive-business-education-forum-8937
END:VEVENT

END:VCALENDAR
