BEGIN:VCALENDAR
VERSION:2.0
PRODID:-//ChamberMaster//Event Calendar 2.0//EN
METHOD:PUBLISH
X-PUBLISHED-TTL:P3D
REFRESH-INTERVAL:P3D
CALSCALE:GREGORIAN
BEGIN:VEVENT
DTSTART:20181026T160000Z
DTEND:20181026T180000Z
X-MICROSOFT-CDO-ALLDAYEVENT:FALSE
SUMMARY:StandUp Pancake Breakfast
DESCRIPTION:Join StandUp Tualatin on Friday\, October 26th for a Pancake Breakfast Fundraiser.  StandUp uses resouces to continue their efforts in making social norms change among their peers emphasizing the fact that the majority of youth choose to have fun drug and alcohol free.  Join the fun and help support this amazing group of youth.
X-ALT-DESC;FMTTYPE=text/html:Join StandUp Tualatin on Friday\, October 26th for a Pancake Breakfast Fundraiser.&nbsp\; StandUp uses resouces to continue their efforts in making social norms change among their peers emphasizing the fact that the majority of youth choose to have fun drug and alcohol free.&nbsp\; Join the fun and help support this amazing group of youth.&nbsp\;
LOCATION:Izumi Japanese Steakhouse 8125 SW Nyberg Street Tualatin\, OR 97062
UID:e.2305.9971
SEQUENCE:3
DTSTAMP:20260420T134515Z
URL:https://chamber.tualatinchamber.com/events/details/standup-pancake-breakfast-9971
END:VEVENT

END:VCALENDAR
