BEGIN:VCALENDAR
VERSION:2.0
PRODID:-//ChamberMaster//Event Calendar 2.0//EN
METHOD:PUBLISH
X-PUBLISHED-TTL:P3D
REFRESH-INTERVAL:P3D
CALSCALE:GREGORIAN
BEGIN:VEVENT
DTSTART:20181107T170000Z
DTEND:20181107T200000Z
X-MICROSOFT-CDO-ALLDAYEVENT:FALSE
SUMMARY:Social Media Basics for Small Business
DESCRIPTION:Overview:\n\n\n	Leverage FREE online marketing opportunities for your small business.\n	Establish a professional and engaging online presence for your brand.\n	Enhance SEO and improve online visibility with social media and local business listings.\n\n\nPresented by Stacey McCormack\, this workshop offers an introduction to the Top 5 social media channels for small business along with the Top 5 local business listings to generate increased marketing exposure for your business. We'll review the unique strengths and weaknesses of each social media channel\, compare and contrast audience size and demographics and review when/why/how each channel is used. Additionally\, we'll review simple tips and little-known tricks to optimize your social media channels for greatest marketing advantage.\n\nWe'll examine the business value of social media and how it can benefit your bottom line. Further discussion points include: Growing your social media audience\, design tools and managing your social media accounts with Hootsuite.\n\nWith a little online marketing savvy\, even small businesses can make a big impression!
X-ALT-DESC;FMTTYPE=text/html:<p><strong>Overview:</strong></p>\n\n<ul>\n	<li>Leverage FREE online marketing opportunities for your small business.</li>\n	<li>Establish a professional and engaging online presence for your brand.</li>\n	<li>Enhance SEO and improve online visibility with social media and local business listings.</li>\n</ul>\n\n<p>Presented by Stacey McCormack\, this workshop offers an introduction to the Top 5 social media channels for small business along with the Top 5 local business listings to generate increased marketing exposure for your business. We&rsquo\;ll review the unique strengths and weaknesses of each social media channel\, compare and contrast audience size and demographics and review when/why/how each channel is used. Additionally\, we&rsquo\;ll review simple tips and little-known tricks to optimize your social media channels for greatest marketing advantage.</p>\n\n<p>We&rsquo\;ll examine the business value of social media and how it can benefit your bottom line. Further discussion points include: Growing your social media audience\, design tools and managing your social media accounts with Hootsuite.</p>\n\n<p>With a little online marketing savvy\, even small businesses can make a big impression!</p>\n
LOCATION:SCORE Portland 620 SW Main Street\, Room 315 Portland\, OR 97205
UID:e.2305.9968
SEQUENCE:3
DTSTAMP:20260420T171407Z
URL:https://chamber.tualatinchamber.com/events/details/social-media-basics-for-small-business-9968
END:VEVENT

END:VCALENDAR
