BEGIN:VCALENDAR
VERSION:2.0
PRODID:-//ChamberMaster//Event Calendar 2.0//EN
METHOD:PUBLISH
X-PUBLISHED-TTL:P3D
REFRESH-INTERVAL:P3D
CALSCALE:GREGORIAN
BEGIN:VEVENT
DTSTART:20190725T193000Z
DTEND:20190725T213000Z
X-MICROSOFT-CDO-ALLDAYEVENT:FALSE
SUMMARY:Residence Inn Lake Oswego - Client Appreciation BBQ
DESCRIPTION:We will be highlighting some of our most popular off the grill offerings from our evening mix.\n\n \n\nPlease RSVP with Nina Frolov at (503) 684-2603 or nfrolov@csmcorp.net by Tuesday July 23rd.
X-ALT-DESC;FMTTYPE=text/html:We will be highlighting some of our most popular off the grill offerings from our evening mix.<br />\n&nbsp\;<br />\nPlease RSVP with Nina Frolov at (503) 684-2603 or&nbsp\;nfrolov@csmcorp.net by Tuesday July 23rd.
LOCATION:Residence Inn Lake Oswego 15200 SW Bangy Rd Lake Oswego\, OR 97035
UID:e.2305.10259
SEQUENCE:3
DTSTAMP:20260420T095941Z
URL:https://chamber.tualatinchamber.com/events/details/residence-inn-lake-oswego-client-appreciation-bbq-10259
END:VEVENT

END:VCALENDAR
