BEGIN:VCALENDAR
VERSION:2.0
PRODID:-//ChamberMaster//Event Calendar 2.0//EN
METHOD:PUBLISH
X-PUBLISHED-TTL:P3D
REFRESH-INTERVAL:P3D
CALSCALE:GREGORIAN
BEGIN:VEVENT
DTSTART:20180908T180000Z
DTEND:20180909T040000Z
X-MICROSOFT-CDO-ALLDAYEVENT:FALSE
SUMMARY:Portland Picnic Wine Tasting Festival
DESCRIPTION:The Portland Picnic Wine Tasting Festival is back for its second year\, offering an exceptional array of 90 wines from around the world in a family friendly environment. The event also features beer and food vendors\, live music\, a grape stomp competition and activities for the whole family\, including a puppet show\, face painting and an appearance by Rojo the Llama! There is no admission charge to enter the festival but tasting packages are required to participate in the wine tasting. Tasting packages will be available for purchase online prior to the event and onsite that day. Sponsorship opportunities are available\, please contact Emily Motter at emily@portland-picnic.com. The Portland Picnic is proud to support Ride Connection. Check them out to learn more about the vital services they provide at www.rideconnection.org.
X-ALT-DESC;FMTTYPE=text/html:The Portland Picnic Wine Tasting Festival is back for its second year\, offering an exceptional array of 90 wines from around the world in a family friendly environment. The event also features beer and food vendors\, live music\, a grape stomp competition and activities for the whole family\, including a puppet show\, face painting and an appearance by Rojo the Llama! There is no admission charge to enter the festival but tasting packages are required to participate in the wine tasting. Tasting packages will be available for purchase online prior to the event and onsite that day. Sponsorship opportunities are available\, please contact Emily Motter at emily@portland-picnic.com. The Portland Picnic is proud to support Ride Connection. Check them out to learn more about the vital services they provide at www.rideconnection.org.
LOCATION:Westmoreland Park 7530 SE 22nd Ave\, Portland\, OR 97202
UID:e.2305.9525
SEQUENCE:3
DTSTAMP:20260420T122223Z
URL:https://chamber.tualatinchamber.com/events/details/portland-picnic-wine-tasting-festival-9525
END:VEVENT

END:VCALENDAR
