BEGIN:VCALENDAR
VERSION:2.0
PRODID:-//ChamberMaster//Event Calendar 2.0//EN
METHOD:PUBLISH
X-PUBLISHED-TTL:P3D
REFRESH-INTERVAL:P3D
CALSCALE:GREGORIAN
BEGIN:VEVENT
DTSTART:20181027T030000Z
DTEND:20181027T060000Z
X-MICROSOFT-CDO-ALLDAYEVENT:FALSE
SUMMARY:Non La Halloween Party 2018
DESCRIPTION:N n L  Halloween Party\, Friday October 26th 8p-11p\nExciting new dishes\n\nCostume contest\n\n-winner announced @ 9p\n\nKaraoke 9:30p-11p
X-ALT-DESC;FMTTYPE=text/html:<span style="font-size:24px"><span style="font-family:arial\,helvetica\,sans-serif">N&oacute\;n L&aacute\; Halloween Party\,&nbsp\;Friday October 26th&nbsp\;8p-11p</span></span>\n<div style="margin-left: 0.49in\; text-align: left\;"><span style="font-family:arial\,helvetica\,sans-serif"><span style="font-size:24px">Exciting new dishes</span></span></div>\n\n<div style="margin-left: 0.49in\; text-align: left\;"><span style="font-family:arial\,helvetica\,sans-serif"><span style="font-size:24px">Costume contest</span></span></div>\n\n<div style="margin-left: 0.49in\; text-align: left\;"><span style="font-family:arial\,helvetica\,sans-serif"><span style="font-size:24px">-winner announced @ 9p</span></span></div>\n\n<div style="margin-left: 0.49in\; text-align: left\;"><span style="font-family:arial\,helvetica\,sans-serif"><span style="font-size:24px">Karaoke 9:30p-11p</span></span></div>\n
LOCATION:Non La Vietnamese Cuisine 18041 SW Lower Boones Ferry Rd\, STE 1A Tigard\, Or. 97224 (503) 521-7395 nonlarestaurants.com
UID:e.2305.9985
SEQUENCE:3
DTSTAMP:20260420T153240Z
URL:https://chamber.tualatinchamber.com/events/details/non-la-halloween-party-2018-9985
END:VEVENT

END:VCALENDAR
