BEGIN:VCALENDAR
VERSION:2.0
PRODID:-//ChamberMaster//Event Calendar 2.0//EN
METHOD:PUBLISH
X-PUBLISHED-TTL:P3D
REFRESH-INTERVAL:P3D
CALSCALE:GREGORIAN
BEGIN:VEVENT
DTSTART:20280905T143000Z
DTEND:20280905T160000Z
X-MICROSOFT-CDO-ALLDAYEVENT:FALSE
SUMMARY:Tualatin Area Chamber - Business Advantage Breakfast
DESCRIPTION:The Tualatin Chamber Breakfasts for New Members and Guests\,\n\n\n\nWe are so glad you will come see the exciting changes at the Tualatin Chamber Area of Commerce! \n\n\n\nWe offer these meetings to help welcome our New Members\, current Members\, or non-members who could use a brush up on who we are today\, to ensure you are getting the most out of your Tualatin Chamber of Commerce membership! Or\, so you can decide if you want to become a member \n\n\n\nCome join us for coffee and a hot breakfast\, free to you\, as our guest\, and learn about all the wonderful events\, committees\, business-building programs\, promotional opportunities\, volunteering and other ways to become an active member in your community!  Learn about our signature events\, meet other new members\, ask questions\, and bring plenty of business cards! \n\n\n\nPlease RSVP by registering and confirm by calling the Chamber at 503.692.0780. Registration limited to15 people.
X-ALT-DESC;FMTTYPE=text/html:The Tualatin Chamber Breakfasts for New Members and Guests\,<br />\n<br />\nWe are so glad you will come see the exciting changes at the Tualatin Chamber Area of Commerce!&nbsp\;<br />\n<br />\nWe offer these meetings to help welcome our New Members\, current Members\, or non-members who could use a brush up on who we are today\, to ensure you are getting the most out of your Tualatin Chamber of Commerce membership!&nbsp\;Or\, so you can decide if you want to become a member&hellip\;<br />\n<br />\nCome join us for coffee and a hot breakfast\, free to you\, as our guest\, and learn about all the wonderful events\, committees\, business-building programs\, promotional opportunities\, volunteering and other ways to become an active member in your community!&nbsp\; Learn about our signature events\, meet other new members\, ask questions\, and bring plenty of business cards!&nbsp\;<br />\n<br />\nPlease RSVP by registering and confirm by calling the Chamber at 503.692.0780. Registration limited to15 people.<br />\n&nbsp\;<br />\n&nbsp\;
LOCATION:Tualatin Area Chamber Office 8101 SW Nyberg St Ste# 102 Tualatin\, OR 97062
UID:e.2305.12318
SEQUENCE:3
DTSTAMP:20260424T134755Z
URL:https://chamber.tualatinchamber.com/events/details/new-member-on-boarding-breakfast-09-05-2028-12318
END:VEVENT

END:VCALENDAR
