BEGIN:VCALENDAR
VERSION:2.0
PRODID:-//ChamberMaster//Event Calendar 2.0//EN
METHOD:PUBLISH
X-PUBLISHED-TTL:P3D
REFRESH-INTERVAL:P3D
CALSCALE:GREGORIAN
BEGIN:VEVENT
DTSTART:20190214T150000Z
DTEND:20190214T170000Z
X-MICROSOFT-CDO-ALLDAYEVENT:FALSE
SUMMARY:Multi-Chamber Speed Networking
DESCRIPTION:Show your business some love and join 80-100 other business professionals for a fast paced\, event in a different format. At tables of 8\, each participant has 60 seconds to talk about their business/cause. Practice that 60 second elevator pitch. You are going to need it. Bring 100 business cards.
X-ALT-DESC;FMTTYPE=text/html:<span style="font-size:14px\;"><span style="font-family: Arial\, Helvetica\, sans-serif\;">Show your business some love and join 80-100 other business professionals for a fast paced\, event in a different format. At tables of 8\, each participant has 60 seconds to talk about their business/cause. Practice that 60 second elevator pitch. You are going to need it. Bring 100 business cards.&nbsp\;</span></span>
LOCATION:Embassy Suties Hotel - Washington Square 9000 SW Washington Square Rd Tigard\, OR 97223
UID:e.2305.10089
SEQUENCE:3
DTSTAMP:20260420T162218Z
URL:https://chamber.tualatinchamber.com/events/details/multi-chamber-speed-networking-10089
END:VEVENT

END:VCALENDAR
