BEGIN:VCALENDAR
VERSION:2.0
PRODID:-//ChamberMaster//Event Calendar 2.0//EN
METHOD:PUBLISH
X-PUBLISHED-TTL:P3D
REFRESH-INTERVAL:P3D
CALSCALE:GREGORIAN
BEGIN:VEVENT
DTSTART:20181007T230000Z
DTEND:20181008T010000Z
X-MICROSOFT-CDO-ALLDAYEVENT:FALSE
SUMMARY:Meet Mayoral Candidate Frank Bubenik
DESCRIPTION:You are invited to come meet and talk Tualatin issues with mayoral candidate Frank Bubenik. Frank has served 8 years as a Tualatin City Councilor and he is now running for Tualatin's Mayor. He welcomes your questions and hearing what your top concerns are for our fine city.\n\n\n\nCan't make it? Visit Frank's website and follow him on Facebook to get to know him and stay informed.\n\nwww.FrankforTualatin.com\n\nFrank For Tualatin - Facebook
X-ALT-DESC;FMTTYPE=text/html:<span style="background-color:rgb(255\, 255\, 255)\; color:rgb(29\, 33\, 41)\; font-family:helvetica\,arial\,sans-serif\; font-size:14px">You are invited to come meet and talk Tualatin issues with mayoral candidate Frank Bubenik. Frank has served 8 years as a Tualatin City Councilor and he is now running for Tualatin&rsquo\;s Mayor. He welcomes your questions and hearing what your top concerns are for our fine city.<br />\n<br />\nCan&#39\;t make it? Visit Frank&#39\;s website and follow him on Facebook to get to know him and stay informed.<br />\n<a href="https://www.frankfortualatin.com/">www.FrankforTualatin.com</a></span><br />\n<a href="https://www.facebook.com/FrankforTualatin/"><span style="background-color:rgb(255\, 255\, 255)\; color:rgb(29\, 33\, 41)\; font-family:helvetica\,arial\,sans-serif\; font-size:14px">Frank For Tualatin - Facebook</span></a>
LOCATION:Tualatin Heritage Center 8700 SW Sweek Dr.\, Tualatin\, OR 97062
UID:e.2305.9960
SEQUENCE:3
DTSTAMP:20260420T135027Z
URL:https://chamber.tualatinchamber.com/events/details/meet-mayoral-candidate-frank-bubenik-9960
END:VEVENT

END:VCALENDAR
