BEGIN:VCALENDAR
VERSION:2.0
PRODID:-//ChamberMaster//Event Calendar 2.0//EN
METHOD:PUBLISH
X-PUBLISHED-TTL:P3D
REFRESH-INTERVAL:P3D
CALSCALE:GREGORIAN
BEGIN:VEVENT
DTSTART:20190212T180000Z
DTEND:20190212T200000Z
X-MICROSOFT-CDO-ALLDAYEVENT:FALSE
SUMMARY:Marketing With G - LinkedIn Training
DESCRIPTION:Can you answer yes to any of the following:\n\n\n	Are you selling to businesses or business owners?\n	Is your LinkedIn profile gathering dust?\n	Have you given up trying to figure out how to use it effectively in your business?\n	Would you like to use LinkedIn effectively in as little as 15 minutes a day?\n\n\n\n\n\n\nPut LinkedIn to work in your business\n\n\n	Learn why LinkedIn is the business social media platform that you can't ignore\n	Discover the 5 things that you must do to be found on LinkedIn!\n	Learn what to do with all of those connections\n	Connect with clients\, referral partners & teaming partners to grow your business\n\n\nThis training will focus on providing strategies for using the free LinkedIn tools. You will learn why having a presence on LinkedIn is critical and the daily and weekly activities that give you visibility and position you as an expert in your field. You will learn why connections are important and how to leverage the ones that you have. You will learn why and how to create your Summary that is compelling and will get you noticed.
X-ALT-DESC;FMTTYPE=text/html:<div>\n<div style="margin-left:0px\; margin-right:0px">\n<div style="background:0px 0px\; border:0px\; padding:0px">\n<h2><strong>Can you answer yes to any of the following:</strong></h2>\n\n<ul>\n	<li><span style="font-size:16px">Are you selling to businesses or business owners?</span></li>\n	<li><span style="font-size:16px">Is your LinkedIn profile gathering dust?</span></li>\n	<li><span style="font-size:16px">Have you given up trying to figure out how to use it effectively in your business?</span></li>\n	<li><span style="font-size:16px">Would you like to use LinkedIn effectively in as little as 15 minutes a day?</span></li>\n</ul>\n</div>\n</div>\n</div>\n\n<div style="margin-left:0px\; margin-right:0px !important">\n<h2><strong>Put LinkedIn to work in your business</strong></h2>\n\n<ul>\n	<li><span style="font-size:16px">Learn why LinkedIn is the business social media platform that you can&rsquo\;t ignore</span></li>\n	<li><span style="font-size:16px">Discover the 5 things that you must do to be found on LinkedIn!</span></li>\n	<li><span style="font-size:16px">Learn what to do with all of those connections</span></li>\n	<li><span style="font-size:16px">Connect with clients\, referral partners &amp\; teaming partners to grow your business</span></li>\n</ul>\n</div>\n<span style="font-size:16px"><span style="color:rgb(0\, 0\, 0)\; font-family:roboto\,sans-serif">This training&nbsp\;</span><span style="color:rgb(0\, 0\, 0)\; font-family:roboto\,sans-serif">will focus on providing strategies for&nbsp\;</span><span style="color:rgb(0\, 0\, 0)\; font-family:roboto\,sans-serif">using the free LinkedIn tools.&nbsp\;</span><span style="color:rgb(0\, 0\, 0)\; font-family:roboto\,sans-serif">You will learn why having a presence on LinkedIn is critical and the daily and weekly activities that give you visibility and position you as an expert in your field. You will learn why connections are important and how to leverage the ones that you have. You will learn why and how to create your Summary that is compelling and will get you noticed.</span></span>
LOCATION:Meadows Executive Office Suites 5200 SW Meadows RD #150 Lake Oswego\, OR 97035
UID:e.2305.10153
SEQUENCE:3
DTSTAMP:20260420T162432Z
URL:https://chamber.tualatinchamber.com/events/details/marketing-with-g-linkedin-training-10153
END:VEVENT

END:VCALENDAR
