BEGIN:VCALENDAR
VERSION:2.0
PRODID:-//ChamberMaster//Event Calendar 2.0//EN
METHOD:PUBLISH
X-PUBLISHED-TTL:P3D
REFRESH-INTERVAL:P3D
CALSCALE:GREGORIAN
BEGIN:VEVENT
DTSTART:20181108T180000Z
DTEND:20181108T200000Z
X-MICROSOFT-CDO-ALLDAYEVENT:FALSE
SUMMARY:Marketing With G - Facebook Training
DESCRIPTION:This training is about finding the authentic message for your business\, and how to communicate that message\, so it attracts customers using Facebook.  Marketing With G is partnering with Magnetic Media Marketing for this training.  The class will be taught by Karla Erovick a Social Media Strategist\, with 20 years of corporate marketing and communications and 8 years of social media experience.  Karla's passion is to teach business owners how to keep up their social media managable\, in just 15 minutes a day using a message that is uniquely their own. \n\n\n\nSeating is limited\, to sign up visit www.marketingwithg.com and follow the links.\n\n\n\nThis class if for those who are not going to watch YouTube and figure it out\, and those not wanting to spend $250 to $1000 per month for someone else to do their social media.  If you are paying somone to do your social media\, this would be a good class to find out for yourself\, if the message being communicated for you is the message you want communicated.
X-ALT-DESC;FMTTYPE=text/html:This training is about finding the authentic message for your business\, and how to communicate that message\, so it attracts customers using Facebook.&nbsp\; Marketing With G is partnering with Magnetic Media Marketing for this training.&nbsp\; The class will be taught by&nbsp\;Karla Erovick a Social Media Strategist\, with 20 years of corporate marketing and communications and 8 years of social media experience.&nbsp\; Karla&#39\;s passion is to teach business owners how to keep up their social media managable\, in just 15 minutes a day using a message that is uniquely their own.&nbsp\;<br />\n<br />\nSeating is limited\, to sign up visit <a href="http://marketingwithg.com">www.marketingwithg.com</a>&nbsp\;and follow the links.<br />\n<br />\nThis class if for those who are not going to watch YouTube and figure it out\, and those not wanting to spend $250 to $1000 per month for someone else to do their social media.&nbsp\; If you are paying somone to do your social media\, this would be a good class to find out for yourself\, if the message being communicated for you is the message you want communicated.
LOCATION:Meadows Executive Office Suites 5200 SW Meadows Rd\, Ste 150 Lake Oswego\, OR 97035
UID:e.2305.9986
SEQUENCE:3
DTSTAMP:20260420T152902Z
URL:https://chamber.tualatinchamber.com/events/details/marketing-with-g-facebook-training-9986
END:VEVENT

END:VCALENDAR
