BEGIN:VCALENDAR
VERSION:2.0
PRODID:-//ChamberMaster//Event Calendar 2.0//EN
METHOD:PUBLISH
X-PUBLISHED-TTL:P3D
REFRESH-INTERVAL:P3D
CALSCALE:GREGORIAN
BEGIN:VEVENT
DTSTART:20190423T200000Z
DTEND:20190423T210000Z
X-MICROSOFT-CDO-ALLDAYEVENT:FALSE
SUMMARY:Marketing Benefits Seminar - Level 2
DESCRIPTION:By popular demand\, Tanya Eskandari\, Programs Coordinator will be hosting a monthly Marketing Benefits Seminar. This is your opportunity to learn about\, discuss\, and brainstorm ways to improve your business' marketing and online presence. Tanya has found success by taking a variety of actions\, and would love to share them with you!\n\n\n\nWe will be having both Level 1 and Level 2 classes. Please review below and register at your level:\n\n	Level 1 will include basic marketing principles such as establishing your target market\, method of communication preferred\, and how to begin preparing a marketing strategy.\n	Level 2 will discuss how to further define your target market's demographics\, brainstorming content suggestions\, and more. \n\nFurthermore\, Tanya will be discussing the platforms\, opportunities\, and tools available to you from the Tualatin Chamber. As a member\, we want to make sure you are maximizing your company's exposure and reaching your customers and potential customers through our platforms. We offer many cost-effective opportunities such as:\n\n\n	Our website directory (driven by Google Keyword search)\n	Social media to our 1500+ followers\n	Weekly e-newsletter to our 1200+ readers\n	The Tualatin Chamber Directory which is delivered to every business and home in Tualatin\n	Targeted advertising\n	Sponsorship opportunities\n\nNote: To ensure each attendee receives individualized attention\, seating will be limited to 5 (and 1 per business). If registration is full\, please register at a future date (next Level 2 is June 25). Thank you for understanding!
X-ALT-DESC;FMTTYPE=text/html:By popular demand\, Tanya Eskandari\, Programs Coordinator will be hosting a monthly Marketing Benefits Seminar. This is your opportunity to learn about\, discuss\, and brainstorm ways to improve your business&#39\; marketing and online presence. Tanya has found success by taking a variety of actions\, and would love to share them with you!<br />\n<br />\nWe will be having both Level 1 and Level 2 classes. Please review below and register at your level:\n<ul>\n	<li>Level 1 will include basic marketing principles such as establishing your target market\, method of communication preferred\, and how to begin preparing a marketing strategy.</li>\n	<li>Level 2 will discuss how to further define your target market&#39\;s demographics\, brainstorming content suggestions\, and more.&nbsp\;</li>\n</ul>\nFurthermore\, Tanya will be discussing the platforms\, opportunities\, and tools available to you from the Tualatin Chamber. As a member\, we want to make sure you are maximizing your company&#39\;s exposure and reaching your customers and potential customers through our platforms. We offer many cost-effective opportunities such as:\n\n<ul>\n	<li>Our website directory (driven by Google Keyword search)</li>\n	<li>Social media to our 1500+ followers</li>\n	<li>Weekly e-newsletter to our 1200+ readers</li>\n	<li>The Tualatin Chamber Directory which is delivered to every business and home in Tualatin</li>\n	<li>Targeted advertising</li>\n	<li>Sponsorship opportunities</li>\n</ul>\n<em>Note: To ensure each attendee receives individualized attention\, seating will be limited to 5 (and 1 per business). If registration is full\, please register at a future date (next Level 2 is June 25). Thank you for understanding!</em>
LOCATION:Tualatin Chamber of Commerce 8101 SW Nyberg St #102 Tualatin\, OR 97062
UID:e.2305.10180
SEQUENCE:3
DTSTAMP:20260420T145026Z
URL:https://chamber.tualatinchamber.com/events/details/marketing-benefits-seminar-level-2-10180
END:VEVENT

END:VCALENDAR
