BEGIN:VCALENDAR
VERSION:2.0
PRODID:-//ChamberMaster//Event Calendar 2.0//EN
METHOD:PUBLISH
X-PUBLISHED-TTL:P3D
REFRESH-INTERVAL:P3D
CALSCALE:GREGORIAN
BEGIN:VEVENT
DTSTART:20180918T180000Z
DTEND:20180918T200000Z
X-MICROSOFT-CDO-ALLDAYEVENT:FALSE
SUMMARY:LUNCH & LEARN
DESCRIPTION:How to Succeed at Selling in Manufacturing and Logistics
X-ALT-DESC;FMTTYPE=text/html:How to Succeed at Selling in Manufacturing and Logistics
LOCATION:Sandler Training Center Portland | 29100 SW Town Center Loop W\, | Suite 260 | Wilsonville\, OR 97070
UID:e.2305.9949
SEQUENCE:3
DTSTAMP:20260420T134440Z
URL:https://chamber.tualatinchamber.com/events/details/lunch-learn-9949
END:VEVENT

END:VCALENDAR
