BEGIN:VCALENDAR
VERSION:2.0
PRODID:-//ChamberMaster//Event Calendar 2.0//EN
METHOD:PUBLISH
X-PUBLISHED-TTL:P3D
REFRESH-INTERVAL:P3D
CALSCALE:GREGORIAN
BEGIN:VEVENT
DTSTART:20220812T143000Z
DTEND:20220812T160000Z
X-MICROSOFT-CDO-ALLDAYEVENT:FALSE
SUMMARY:Live! AM Networking & Ribbon Cutting - Contract Furnishings Mart
DESCRIPTION:Happy 2022! Join us for our most popular Networking Event and #getconnected!\n\n\n\nHosts: Contract Furnishings Mart\n\nWoohoo! The fabulous folks at Contract Furnishings Mart have been patiently awaiting  their opportunity to celebrate with all the fine people of our chamber and share the opening of their newest location in Tigard. Please join the Tualatin Chamber Ambassadors and Mayor Frank Bubenik for this very special ribbon cutting networking event. Contract Furnishings Mart is excited to bring us into their store and will be offering raffle prizes\, coffee\, snacks and\, no doubt\, a whole lot of fun as they show us what they're made of! Join us\, bring a friend\, and don't forget your business cards!\n\n\n\nWhat is AM Networking?!\n\nIt's the best opportunity to network and discuss current issues\, learn about one of our local Member businesses\, receive updates on Chamber news and events\, share member announcements\, and give SHOUT-OUTS to the business community!\n\n*Chamber Members and guests are welcome to attend\, so come find out how we're helping Tualatin businesses succeed!\n* Paid Announcements are $5/ea. and first-come-first-served.\n\n* Non-Profit Announcements are FREE for NP Members.\n\n* 2 min. Business Spotlights happen using your business cards for the drawing.\n\n*The 50/50 RAFFLE is BACK along with all the other raffle gifts our generous Hosts provide each week!\n\n \n\nWe hope to see you all this Friday! Let's #GETCONNECTED!
X-ALT-DESC;FMTTYPE=text/html:<span style="border-width: initial\; border-style: none\; border-color: initial\; border-image: none 100% 1 0 / 1 / 0 stretch\; font-family: Arial\, Helvetica\, sans-serif\; font-size: 16px\; margin: 0px\; outline: 0px\; padding: 0px\; vertical-align: baseline\; inset: auto\; box-sizing: content-box\; clear: none\; color: rgb(68\, 68\, 68)\; content: normal\; direction: inherit\; empty-cells: show\; font-variant-numeric: inherit\; font-variant-east-asian: inherit\; font-stretch: inherit\; line-height: inherit\; max-height: none\; max-width: none\; min-height: initial\; min-width: initial\; opacity: 1\; outline-offset: 0px\; overflow: visible\; position: static\; resize: none\; table-layout: auto\; text-overflow: clip\; visibility: inherit\; word-break: inherit\; overflow-wrap: inherit\; z-index: auto\; background: none rgb(247\, 247\, 247)\; border-collapse: separate\; border-radius: 0px\; height: auto\; width: auto\; box-shadow: none\;"><span style="border-width: initial\; border-style: none\; border-color: initial\; border-image: none 100% 1 0 / 1 / 0 stretch\; font-size: inherit\; font-style: inherit\; font-weight: bolder\; margin: 0px\; outline: 0px\; padding: 0px\; vertical-align: baseline\; inset: auto\; box-sizing: content-box\; clear: none\; color: inherit\; content: normal\; direction: inherit\; empty-cells: show\; font-variant: inherit\; font-stretch: inherit\; letter-spacing: inherit\; line-height: inherit\; max-height: none\; max-width: none\; min-height: initial\; min-width: initial\; opacity: 1\; outline-offset: 0px\; overflow: visible\; position: static\; resize: none\; table-layout: auto\; text-align: inherit\; text-indent: inherit\; text-overflow: clip\; text-transform: inherit\; visibility: inherit\; white-space: inherit\; word-break: inherit\; word-spacing: inherit\; overflow-wrap: inherit\; z-index: auto\; background: none\; border-collapse: separate\; border-radius: 0px\; height: auto\; width: auto\; box-shadow: none\;"><span apple="" color="" droid="" fira="" helvetica="" lucida="" oxygen="" segoe="" style="border-width: initial\; border-style: none\; border-color: initial\; border-image: none 100% 1 0 / 1 / 0 stretch\; font: inherit\; margin: 0px\; outline: 0px\; padding: 0px\; vertical-align: baseline\; inset: auto\; box-sizing: content-box\; clear: none\; color: inherit\; content: normal\; direction: inherit\; display: inline\; empty-cells: show\; float: none\; letter-spacing: inherit\; max-height: none\; max-width: none\; min-height: initial\; min-width: initial\; opacity: 1\; outline-offset: 0px\; overflow: visible\; position: static\; resize: none\; table-layout: auto\; text-align: inherit\; text-indent: inherit\; text-overflow: clip\; text-transform: inherit\; visibility: inherit\; white-space: inherit\; word-break: inherit\; word-spacing: inherit\; overflow-wrap: inherit\; z-index: auto\; background: none\; border-collapse: separate\; border-radius: 0px\; height: auto\; width: auto\; box-shadow: none\;" ui=""><span style="border-width: initial\; border-style: none\; border-color: initial\; border-image: none 100% 1 0 / 1 / 0 stretch\; font: inherit\; margin: 0px\; outline: 0px\; padding: 0px\; vertical-align: baseline\; inset: auto\; box-sizing: content-box\; clear: none\; color: rgb(0\, 0\, 205)\; content: normal\; direction: inherit\; empty-cells: show\; letter-spacing: inherit\; max-height: none\; max-width: none\; min-height: initial\; min-width: initial\; opacity: 1\; outline-offset: 0px\; overflow: visible\; position: static\; resize: none\; table-layout: auto\; text-align: inherit\; text-indent: inherit\; text-overflow: clip\; text-transform: inherit\; visibility: inherit\; white-space: inherit\; word-break: inherit\; word-spacing: inherit\; overflow-wrap: inherit\; z-index: auto\; background: none\; border-collapse: separate\; border-radius: 0px\; height: auto\; width: auto\; box-shadow: none\;">Happy 2022! Join us for our most popular Networking Event and #getconnected!<br />\n<br />\nHosts: Contract Furnishings Mart</span></span></span></span><br />\n<span style="color: rgb(29\, 33\, 41)\; font-family: Helvetica\; font-size: 14px\;">Woohoo! The fabulous folks at Contract Furnishings Mart have been patiently awaiting&nbsp\; their opportunity to celebrate with all the fine people of our chamber and share&nbsp\;the opening of their newest location in Tigard. Please join the Tualatin Chamber Ambassadors and Mayor Frank Bubenik for this very special ribbon cutting networking event. Contract Furnishings Mart is excited to bring us into their store and will be offering raffle prizes\, coffee\, snacks and\, no doubt\, a whole lot of fun as they show us what they&#39\;re made of! Join us\, bring a friend\, and don&#39\;t forget your business cards!</span><br />\n<br />\n<span style="border-width: initial\; border-style: none\; border-color: initial\; border-image: none 100% 1 0 / 1 / 0 stretch\; font-family: Arial\, Helvetica\, sans-serif\; font-size: 14px\; font-weight: bolder\; margin: 0px\; outline: 0px\; padding: 0px\; vertical-align: baseline\; inset: auto\; box-sizing: content-box\; clear: none\; content: normal\; direction: inherit\; empty-cells: show\; font-variant-numeric: inherit\; font-variant-east-asian: inherit\; font-stretch: inherit\; line-height: inherit\; max-height: none\; max-width: none\; min-height: initial\; min-width: initial\; opacity: 1\; outline-offset: 0px\; overflow: visible\; position: static\; resize: none\; table-layout: auto\; text-overflow: clip\; visibility: inherit\; word-break: inherit\; overflow-wrap: inherit\; z-index: auto\; background: none rgb(247\, 247\, 247)\; border-collapse: separate\; border-radius: 0px\; height: auto\; width: auto\; box-shadow: none\;"><span apple="" color="" droid="" fira="" helvetica="" lucida="" oxygen="" segoe="" style="border-width: initial\; border-style: none\; border-color: initial\; border-image: none 100% 1 0 / 1 / 0 stretch\; font: inherit\; margin: 0px\; outline: 0px\; padding: 0px\; vertical-align: baseline\; inset: auto\; box-sizing: content-box\; clear: none\; content: normal\; direction: inherit\; display: inline\; empty-cells: show\; float: none\; letter-spacing: inherit\; max-height: none\; max-width: none\; min-height: initial\; min-width: initial\; opacity: 1\; outline-offset: 0px\; overflow: visible\; position: static\; resize: none\; table-layout: auto\; text-align: inherit\; text-indent: inherit\; text-overflow: clip\; text-transform: inherit\; visibility: inherit\; white-space: inherit\; word-break: inherit\; word-spacing: inherit\; overflow-wrap: inherit\; z-index: auto\; background: none\; border-collapse: separate\; border-radius: 0px\; height: auto\; width: auto\; box-shadow: none\;" ui="">What is AM Networking?!</span></span><br apple="" color="" droid="" fira="" helvetica="" lucida="" oxygen="" segoe="" style="inset: auto\; box-sizing: inherit\; clear: none\; color: rgba(0\, 0\, 0\, 0.9)\; content: normal\; direction: inherit\; display: inline\; empty-cells: show\; float: none\; font-variant-numeric: inherit\; font-variant-east-asian: inherit\; font-stretch: inherit\; font-size: 14px\; font-family: Arial\, Helvetica\, sans-serif\; line-height: inherit\; margin: 0px\; max-height: none\; max-width: none\; min-height: initial\; min-width: initial\; opacity: 1\; outline-offset: 0px\; overflow: visible\; padding: 0px\; position: static\; resize: none\; table-layout: auto\; text-overflow: clip\; vertical-align: baseline\; visibility: inherit\; word-break: inherit\; overflow-wrap: inherit\; z-index: auto\; background: none rgb(247\, 247\, 247)\; border-width: initial\; border-style: none\; border-color: initial\; border-collapse: separate\; border-image: none 100% 1 0 / 1 / 0 stretch\; border-radius: 0px\; height: auto\; width: auto\;" ui="" />\n<span apple="" color="" droid="" fira="" helvetica="" lucida="" oxygen="" segoe="" style="border-width: initial\; border-style: none\; border-color: initial\; border-image: none 100% 1 0 / 1 / 0 stretch\; font-family: Arial\, Helvetica\, sans-serif\; font-size: 14px\; margin: 0px\; outline: 0px\; padding: 0px\; vertical-align: baseline\; inset: auto\; box-sizing: content-box\; clear: none\; content: normal\; direction: inherit\; display: inline\; empty-cells: show\; float: none\; font-variant-numeric: inherit\; font-variant-east-asian: inherit\; font-stretch: inherit\; line-height: inherit\; max-height: none\; max-width: none\; min-height: initial\; min-width: initial\; opacity: 1\; outline-offset: 0px\; overflow: visible\; position: static\; resize: none\; table-layout: auto\; text-overflow: clip\; visibility: inherit\; word-break: inherit\; overflow-wrap: inherit\; z-index: auto\; background: none rgb(247\, 247\, 247)\; border-collapse: separate\; border-radius: 0px\; height: auto\; width: auto\; box-shadow: none\;" ui="">It&#39\;s the best opportunity to network and discuss current issues\, learn about one of our local Member businesses\, receive updates on Chamber news and events\, share member announcements\, and give SHOUT-OUTS to the business community!</span><br apple="" color="" droid="" fira="" helvetica="" lucida="" oxygen="" segoe="" style="inset: auto\; box-sizing: inherit\; clear: none\; color: rgba(0\, 0\, 0\, 0.9)\; content: normal\; direction: inherit\; display: inline\; empty-cells: show\; float: none\; font-variant-numeric: inherit\; font-variant-east-asian: inherit\; font-stretch: inherit\; font-size: 14px\; font-family: Arial\, Helvetica\, sans-serif\; line-height: inherit\; margin: 0px\; max-height: none\; max-width: none\; min-height: initial\; min-width: initial\; opacity: 1\; outline-offset: 0px\; overflow: visible\; padding: 0px\; position: static\; resize: none\; table-layout: auto\; text-overflow: clip\; vertical-align: baseline\; visibility: inherit\; word-break: inherit\; overflow-wrap: inherit\; z-index: auto\; background: none rgb(247\, 247\, 247)\; border-width: initial\; border-style: none\; border-color: initial\; border-collapse: separate\; border-image: none 100% 1 0 / 1 / 0 stretch\; border-radius: 0px\; height: auto\; width: auto\;" ui="" />\n<span apple="" color="" droid="" fira="" helvetica="" lucida="" oxygen="" segoe="" style="background: rgb(247\, 247\, 247)\; border-width: initial\; border-style: none\; border-color: initial\; margin: 0px\; padding: 0px\; outline: 0px\; border-radius: 0px\; border-image: none 100% 1 0 / 1 / 0 stretch\; width: auto\; height: auto\; line-height: inherit\; overflow: visible\; clear: none\; font-family: Arial\, Helvetica\, sans-serif\; font-size: 14px\; vertical-align: baseline\; display: inline\; visibility: inherit\; border-collapse: separate\; position: static\; z-index: auto\; table-layout: auto\; direction: inherit\; word-break: inherit\; text-overflow: clip\; min-height: initial\; max-height: none\; min-width: initial\; max-width: none\; content: normal\; box-sizing: content-box\; empty-cells: show\; font-stretch: inherit\; opacity: 1\; float: none\; box-shadow: none\; outline-offset: 0px\; overflow-wrap: inherit\;" ui="">*Chamber Members and guests are welcome to attend\, so come find out how we&#39\;re helping Tualatin businesses succeed!</span>\n<p style="margin: 0in\; font-family: Helvetica\; font-size: 10.5pt\; color: rgb(29\, 33\, 41)\;">* Paid Announcements are $5/ea. and first-come-first-served.</p>\n\n<p style="margin: 0in\; font-family: Helvetica\; font-size: 10.5pt\; color: rgb(29\, 33\, 41)\;">* Non-Profit Announcements are FREE for NP Members.</p>\n\n<p style="margin: 0in\; font-family: Helvetica\; font-size: 10.5pt\; color: rgb(29\, 33\, 41)\;">* 2 min. Business Spotlights happen&nbsp\;using your business cards for the drawing.</p>\n\n<p style="margin: 0in\; font-family: Helvetica\; font-size: 10.5pt\; color: rgb(29\, 33\, 41)\;">*The 50/50 RAFFLE is BACK along with all the other raffle gifts our generous Hosts provide each week!</p>\n\n<p style="margin: 0in\; font-family: Calibri\; font-size: 11pt\;">&nbsp\;</p>\n\n<p style="margin: 0in\; font-family: Helvetica\; font-size: 10.5pt\;"><span style="font-weight: bold\; color: rgb(29\, 33\, 41)\;">We hope to see you all this Friday! Let&#39\;s&nbsp\;</span><a href="https://www.facebook.com/hashtag/getconnected?__eep__=6"><span style="font-weight: bold\;">#GETCONNECTED</span></a><span style="font-weight: bold\; color: rgb(29\, 33\, 41)\;">!</span></p>\n
LOCATION:Contract Furnishings Mart 14160 SW 72nd Ave\, Ste 110 Tigard\, OR 97224
UID:e.2305.11727
SEQUENCE:3
DTSTAMP:20260420T034544Z
URL:https://chamber.tualatinchamber.com/events/details/live-am-networking-ribbon-cutting-contract-furnishings-mart-11727
END:VEVENT

END:VCALENDAR
