BEGIN:VCALENDAR
VERSION:2.0
PRODID:-//ChamberMaster//Event Calendar 2.0//EN
METHOD:PUBLISH
X-PUBLISHED-TTL:P3D
REFRESH-INTERVAL:P3D
CALSCALE:GREGORIAN
BEGIN:VEVENT
DTSTART:20181109T020000Z
DTEND:20181109T043000Z
X-MICROSOFT-CDO-ALLDAYEVENT:FALSE
SUMMARY:Ladies Night of Indulgence
DESCRIPTION:* Free Massages\n\n* Hair\, Skin and fitness vendors\n\n    *Free Consultations and demos\n\n*Jewelry shopping\n\n*Clothing\, Fashion and Photagraphy vendors\n\n*Appetizers\, Chocolate\, and Wine\n\n(Drop-in style)
X-ALT-DESC;FMTTYPE=text/html:* Free Massages<br />\n* Hair\, Skin and fitness vendors<br />\n&nbsp\; &nbsp\; *Free Consultations and demos<br />\n*Jewelry shopping<br />\n*Clothing\, Fashion and Photagraphy vendors<br />\n*Appetizers\, Chocolate\, and Wine<br />\n(Drop-in style)
LOCATION:The Upper Cervical Clinic 7180 SW Fir Loop STE 250 Tigard\, OR 97223
UID:e.2305.9999
SEQUENCE:3
DTSTAMP:20260420T171418Z
URL:https://chamber.tualatinchamber.com/events/details/ladies-night-of-indulgence-9999
END:VEVENT

END:VCALENDAR
