BEGIN:VCALENDAR
VERSION:2.0
PRODID:-//ChamberMaster//Event Calendar 2.0//EN
METHOD:PUBLISH
X-PUBLISHED-TTL:P3D
REFRESH-INTERVAL:P3D
CALSCALE:GREGORIAN
BEGIN:VEVENT
DTSTART:20191228T190000Z
DTEND:20191228T203000Z
X-MICROSOFT-CDO-ALLDAYEVENT:FALSE
SUMMARY:HOPE Dementia Support Group
DESCRIPTION:For the December 28 group meetup\, your care partners are invited to join you at a holiday potluck. Please bring snacks and finger foods to share with about 20 people. \n\n\n\nHOPE Dementia Support provides support and education at every meeting\, each week\, for family caregivers for a loved one living with dementia. Groups and individuals are free to attend in a safe and comforting environment with a trained facilitator who is a former caregiver themselves.
X-ALT-DESC;FMTTYPE=text/html:For the December 28 group meetup\, your care partners are invited to join you at a holiday potluck. Please bring snacks and finger foods to share with about 20 people.&nbsp\;<br />\n<br />\nHOPE Dementia Support provides support and education at every meeting\, each week\, for family caregivers for a loved one living with dementia. Groups and individuals are free to attend in a safe and comforting environment with a trained facilitator who is a former caregiver themselves.
LOCATION:The Community at Marquis Tualatin 19805 SW Boones Ferry Rd. Tualatin\, OR 97062 (across from main building on the same campus)
UID:e.2305.10146
SEQUENCE:3
DTSTAMP:20260420T044118Z
URL:https://chamber.tualatinchamber.com/events/details/hope-dementia-support-group-12-28-2019-10146
END:VEVENT

END:VCALENDAR
