BEGIN:VCALENDAR
VERSION:2.0
PRODID:-//ChamberMaster//Event Calendar 2.0//EN
METHOD:PUBLISH
X-PUBLISHED-TTL:P3D
REFRESH-INTERVAL:P3D
CALSCALE:GREGORIAN
BEGIN:VEVENT
DTSTART:20181201T010000Z
DTEND:20181201T050000Z
X-MICROSOFT-CDO-ALLDAYEVENT:FALSE
SUMMARY:Holidays Around the World - 23rd Annual Holiday Auction & Dinner
DESCRIPTION:The Annual Holiday Auction & Dinner is the Tualatin Chamber of Commerce's largest event of the year\, and one of our favorites! All proceeds from the event support the Chamber's efforts to champion our business community on issues of importance\, convene business leaders\, elected officials\, community members\, and be a catalytic force for good in our community as a whole. \n\n\n\nEach year\, the auction boasts numerous exciting and diverse items\, and has become the go-to event when shopping for friends and family as well as spreading holiday cheer. Items received so far include tickets to Blazer's suite\, get-away weekends\, evenings out of town\, concert tickets\, packages to explore our beautiful city\, and much more! \n\n\n\nThis year's theme is Holidays Around the World\; sure to excite and expose you to cultural traditions all over the earth. We look forward to seeing you there!\n\n\n\nInterested in sponsorship opportunities?\n\nContact the Fletcher Johnson at | 503-692-0780 | fletcher@tualatinchamber.com\n\n\n\nWould you like to donate to this event?\n\nContact Tanya Eskandari | 503-692-0780 | tanya@tualatinchamber.com\n\n(Pictures below are from 2017 Cirque du Holiday Auction & Dinner)\n\n\n\nThank you donors!\n\nA Group Real Estate\n\nActive Media Inc\n\nAFC Urgent Care\n\nAltusLaw\, LLC\n\nAndy Tobin - Thermal Modification Technologies\n\nArborBrook Vineyards\n\nArienne White - CareerStaff Unlimited\n\nArmor Auto Detailing\n\nBlakeslee Vineyard Estate\n\nBoom! Fitness\n\nBridgeport Village\n\nBroadway Rose Theatre Company\n\nBushwhackers\n\nCalifornia Pizza Kitchen\n\nCascade RV\n\nCascadia Eye Care\n\nCenter Street Gold & Silver\n\nCentury Farms - Rachelle Martinazzi & Tim Foster\n\nCentury Hotel & Hayden's Lakefront Grill\n\nChehalem Glenn Golf Course\n\nCitizens Bank\n\nClean Water Services\n\nClockwork Handyman & Remodeling Services\n\nClub Pilates Tualatin-Sherwood\n\nCoddington Creative\n\nCohen Caregiving Support Consultants\n\nCollection Connection\n\nCompass Computing Group\n\nConnecting Your Customers\n\nCourtyard by Marriot - Portland/Tigard\n\nCracker Barrel Old Coutry Store\n\nCreganna Medial\, TE\n\nCUI Global Inc.\n\nCutco Cutlery\n\nDalton's Northwest Catering\n\nDebbie Borges - Berkshire Hathaway\n\nDobbes Family Estate\n\nDutch Bros Coffee Tualatin\n\nEcoValley Pest Control\n\nEd Casey\n\nEscape Space Games\n\nFamily Dentistry of Tualatin\, Ian Pham DMD\n\nFamous Dave's BBQ\n\nFASTSIGNS\n\nFletcher Johnson\n\nFletcher Johnson & Portland Timbers\n\nG-Man Sports Bar\n\nGraphic Expressions\, Inc\n\nGreat Northwest Gutters\, LLC\n\nGrimm's Fuel Company\n\nHalf Price Networks\n\nHelser Industries\n\nHillsboro Hops\n\nHR Influence\n\nIzumi Japanese Steakhouse\n\nJC Motors\n\nJeremiah Productions - Beth Donnelly & Douglas Feller\n\nJoan Riley with The Juice Plus Company\n\nJoan Riley with NW 50 Plus Company\n\nJohn Ferdig - Mr. Handyman of Lake Oswego and Tigard\n\nKaady Car Washes\n\nKai USA Ltd / Kershaw Knives\n\nKing City Golf Course\n\nKlepich & Associates\, LLC\n\nLakeside Family Dentistry\n\nLakeside Lumber Company\n\nLakeside Salon\n\nLakewood Theatre Company\n\nLan Su Chinese Garden\n\nLaurel Ridge Vineyards\n\nLegalshield - Kate Johnson\n\nLes Schwab Tires\n\nMashita Teriyaki\n\nMassage Envy Tualatin Clinic\n\nMcDonald's - Locally Owned & Operated\n\nMichelle's Flowers\n\nMiller Insurance\n\nMoholt Family\n\nMuscles in Motion Personal Training Studio\n\nNew Seasons Market Nyberg Rivers\n\nNon La Vietnamese Cuisine\n\nNvHolden Photography\n\nOCCU - Oregon Community Credit Union\n\nOregon East Cycling\, LLC dba Oregon Coast Railriders\n\nOregon Eye Specialists\n\nOregon Zoo\n\nPacific West Roofing\n\nPerformance Spine Chiropractic Center\n\nPig 'N Pancake\n\nPilot Property Management LLC\n\nPittock Mansion\n\nPortland Badge & Sign\n\nPortland Baroque Orchestra\n\nPortland Center Stage at The Armory\n\nPortland Rose Festival Foundation\n\nPortland Spirit Cruises and Events\n\nPortland Walking Tours\n\nQuest Property Management\n\nResidence Inn by Marriot - Lake Oswego\n\nRose City Futsal WEST\n\nSalishan Resort & Spa\n\nSERVPRO of Tigard/Tualatin\n\nSherwin Williams\n\nSherwood Ice Arena\n\nSierra Pacific Mortgage\n\nSky High Sports - Joana Valdez\n\nSolutions YES\n\nSport Clips Lake Oswego\n\nSQ Merchant Services\n\nStafford Hills Club\n\nStein Oil Company\n\nStickmen Brewing Company\n\nSusan Noack\n\nTeam Rehab of Bridgeport\n\nThe Aloha Grill\n\nThe Flowering Jade\n\nThe Grand Hotel at Bridgeport\n\nThe Grotto\n\nThe Oregon Clinic - GI South\n\nThe Schooner Restaurant & Lounge\n\nTherapeutic Associates at Sherwood Oregon\n\nTime to Travel Tours\n\nTime to Travel Tours & Club Med\n\nTopGolf\n\nTrazza Fine Lebanese Food\n\nTree City Chiropractic\n\nTualatin Auto Body\n\nTualatin Beards Framing\n\nTualatin Golf & Country Club\n\nTualatin Heritage Center\n\nTualatin Island Greens\n\nTualatin Life\n\nTualatin Modern Dentistry\n\nTualatin Police Department\n\nTualatin Transmission Center\n\nTualatin Valley Fire & Rescue\n\nUhaul Moving & Storage of Lake Oswego\n\nUniversal Crystal Cleaning\n\nVitality Bowls Tualatin\n\nWells Fargo Bank\n\nWild Friends Foods\n\nWildlife Safari\n\nWillowbrook Arts Camp\n\nWilsonville Costco\n\nWilsonville Family Fun Center & Bullwinkle's Restaurant\n\nWinona Grange #271\n\nWorld Forestry Center\n\nWorld of Speed Motorsports Museum
X-ALT-DESC;FMTTYPE=text/html:<p><span style="font-size: 14px\;">The Annual Holiday Auction &amp\; Dinner is the Tualatin Chamber of Commerce&#39\;s largest event of the year\, and one of our favorites! All proceeds from the event support the Chamber&#39\;s efforts to champion our business community on issues of importance\, convene business leaders\, elected officials\, community members\, and be a catalytic force for good in our community as a whole.&nbsp\;<br />\n<br />\nEach year\, the auction boasts numerous exciting and diverse items\, and has become&nbsp\;<em>the&nbsp\;</em>go-to event when shopping for friends and family as well as spreading holiday cheer. Items received so far include tickets to Blazer&#39\;s suite\, get-away weekends\, evenings out of town\, concert tickets\, packages to explore our beautiful city\, and much more!&nbsp\;<br />\n<br />\nThis year&#39\;s theme is Holidays Around the World\; sure to excite and expose you to cultural traditions all over the earth. We look forward to seeing you there!</span><br />\n<br />\n<span style="font-size:14px\;"><strong style="color: rgb(51\, 51\, 51)\; font-family: sans-serif\, Arial\, Verdana\,\;" trebuchet=""><span style="font-family:arial\;">Interested in sponsorship opportunities?<br />\nContact the&nbsp\;Fletcher Johnson at | 503-692-0780 |</span></strong><span style="font-family:arial\;"><strong style="color: rgb(51\, 51\, 51)\; font-family: sans-serif\, Arial\, Verdana\,\;" trebuchet="">&nbsp\;<a href="mailto:fletcher@tualatinchamber.com">fletcher@tualatinchamber.com</a><br />\n<br />\nWould you like to donate&nbsp\;to this event?<br />\nContact Tanya Eskandari&nbsp\;| 503-692-0780 |&nbsp\;<a href="mailto:tanya@tualatinchamber.com" style="color: rgb(7\, 130\, 193)\;">tanya@tualatinchamber.com</a></strong></span></span></p>\n\n<p><span style="font-size:14px\;"><span style="font-family: arial\;">(Pictures below are from 2017 Cirque du Holiday Auction &amp\; Dinner)<br />\n<br />\n<strong><u><span style="font-size:20px\;">Thank you donors!</span></u></strong></span><br />\nA Group Real Estate<br />\nActive Media Inc<br />\nAFC Urgent Care<br />\nAltusLaw\, LLC<br />\nAndy Tobin - Thermal Modification Technologies<br />\nArborBrook Vineyards<br />\nArienne White - CareerStaff Unlimited<br />\nArmor Auto Detailing<br />\nBlakeslee Vineyard Estate<br />\nBoom! Fitness<br />\nBridgeport Village<br />\nBroadway Rose Theatre Company<br />\nBushwhackers<br />\nCalifornia Pizza Kitchen<br />\nCascade RV<br />\nCascadia Eye Care<br />\nCenter Street Gold &amp\; Silver<br />\nCentury Farms - Rachelle Martinazzi &amp\; Tim Foster<br />\nCentury Hotel &amp\; Hayden&#39\;s Lakefront Grill<br />\nChehalem Glenn Golf Course<br />\nCitizens Bank<br />\nClean Water Services<br />\nClockwork Handyman &amp\; Remodeling Services<br />\nClub Pilates Tualatin-Sherwood<br />\nCoddington Creative<br />\nCohen Caregiving Support Consultants<br />\nCollection Connection<br />\nCompass Computing Group<br />\nConnecting Your Customers<br />\nCourtyard by Marriot - Portland/Tigard<br />\nCracker Barrel Old Coutry Store<br />\nCreganna Medial\, TE<br />\nCUI Global Inc.<br />\nCutco Cutlery<br />\nDalton&#39\;s Northwest Catering<br />\nDebbie Borges - Berkshire Hathaway<br />\nDobbes Family Estate<br />\nDutch Bros Coffee Tualatin<br />\nEcoValley Pest Control<br />\nEd Casey<br />\nEscape Space Games<br />\nFamily Dentistry of Tualatin\, Ian Pham DMD<br />\nFamous Dave&#39\;s BBQ<br />\nFASTSIGNS<br />\nFletcher Johnson<br />\nFletcher Johnson &amp\; Portland Timbers<br />\nG-Man Sports Bar<br />\nGraphic Expressions\, Inc<br />\nGreat Northwest Gutters\, LLC<br />\nGrimm&#39\;s Fuel Company<br />\nHalf Price Networks<br />\nHelser Industries<br />\nHillsboro Hops<br />\nHR Influence<br />\nIzumi Japanese Steakhouse<br />\nJC Motors<br />\nJeremiah Productions - Beth Donnelly &amp\; Douglas Feller<br />\nJoan Riley with The Juice Plus Company<br />\nJoan Riley with NW 50 Plus Company<br />\nJohn Ferdig - Mr. Handyman of Lake Oswego and&nbsp\;Tigard<br />\nKaady Car Washes<br />\nKai USA Ltd / Kershaw Knives<br />\nKing City Golf Course<br />\nKlepich &amp\; Associates\, LLC<br />\nLakeside Family Dentistry<br />\nLakeside Lumber Company<br />\nLakeside Salon<br />\nLakewood Theatre Company<br />\nLan Su Chinese Garden<br />\nLaurel Ridge Vineyards<br />\nLegalshield - Kate Johnson<br />\nLes Schwab Tires<br />\nMashita Teriyaki<br />\nMassage Envy Tualatin Clinic<br />\nMcDonald&#39\;s - Locally Owned &amp\; Operated<br />\nMichelle&#39\;s Flowers<br />\nMiller Insurance<br />\nMoholt Family<br />\nMuscles in Motion Personal Training Studio<br />\nNew Seasons Market Nyberg Rivers<br />\nNon La Vietnamese Cuisine<br />\nNvHolden Photography<br />\nOCCU - Oregon Community Credit Union<br />\nOregon East Cycling\, LLC dba Oregon Coast Railriders<br />\nOregon Eye Specialists<br />\nOregon Zoo<br />\nPacific West Roofing<br />\nPerformance Spine Chiropractic Center<br />\nPig &#39\;N Pancake<br />\nPilot Property Management LLC<br />\nPittock Mansion<br />\nPortland Badge &amp\; Sign<br />\nPortland Baroque Orchestra<br />\nPortland Center Stage at The Armory<br />\nPortland Rose Festival Foundation<br />\nPortland Spirit Cruises and Events<br />\nPortland Walking Tours<br />\nQuest Property Management<br />\nResidence Inn by Marriot - Lake Oswego<br />\nRose City Futsal WEST<br />\nSalishan Resort &amp\; Spa<br />\nSERVPRO of Tigard/Tualatin<br />\nSherwin Williams<br />\nSherwood Ice Arena<br />\nSierra Pacific Mortgage<br />\nSky High Sports - Joana Valdez<br />\nSolutions YES<br />\nSport Clips Lake Oswego<br />\nSQ Merchant Services<br />\nStafford Hills Club<br />\nStein Oil Company<br />\nStickmen Brewing Company<br />\nSusan Noack<br />\nTeam Rehab of Bridgeport<br />\nThe Aloha Grill<br />\nThe Flowering Jade<br />\nThe Grand Hotel at Bridgeport<br />\nThe Grotto<br />\nThe Oregon Clinic - GI South<br />\nThe Schooner Restaurant &amp\; Lounge<br />\nTherapeutic Associates at Sherwood Oregon<br />\nTime to Travel Tours<br />\nTime to Travel Tours &amp\; Club Med<br />\nTopGolf<br />\nTrazza Fine Lebanese Food<br />\nTree City Chiropractic<br />\nTualatin Auto Body<br />\nTualatin Beards Framing<br />\nTualatin Golf &amp\; Country Club<br />\nTualatin Heritage Center<br />\nTualatin Island Greens<br />\nTualatin Life<br />\nTualatin Modern Dentistry<br />\nTualatin Police Department<br />\nTualatin Transmission Center<br />\nTualatin Valley Fire &amp\; Rescue<br />\nUhaul Moving &amp\; Storage of Lake Oswego<br />\nUniversal Crystal Cleaning<br />\nVitality Bowls Tualatin<br />\nWells Fargo Bank<br />\nWild Friends Foods<br />\nWildlife Safari<br />\nWillowbrook Arts Camp<br />\nWilsonville Costco<br />\nWilsonville Family Fun Center &amp\; Bullwinkle&#39\;s Restaurant<br />\nWinona Grange #271<br />\nWorld Forestry Center<br />\nWorld of Speed Motorsports Museum</span></p>\n
LOCATION:Tualatin Country Club 9145 Southwest Tualatin Road Tualatin\, OR 97062
UID:e.2305.8941
SEQUENCE:3
DTSTAMP:20260420T171833Z
URL:https://chamber.tualatinchamber.com/events/details/holidays-around-the-world-23rd-annual-holiday-auction-dinner-8941
END:VEVENT

END:VCALENDAR
