BEGIN:VCALENDAR
VERSION:2.0
PRODID:-//ChamberMaster//Event Calendar 2.0//EN
METHOD:PUBLISH
X-PUBLISHED-TTL:P3D
REFRESH-INTERVAL:P3D
CALSCALE:GREGORIAN
BEGIN:VEVENT
DTSTART;VALUE=DATE:20181117
DTEND;VALUE=DATE:20181118
TRANSP:TRANSPARENT
X-MICROSOFT-CDO-ALLDAYEVENT:TRUE
SUMMARY:Holiday Wine Gala hosted by Non La Vietnamese Cuisine
DESCRIPTION:Holiday wine gala!!! \n\nNovember 17th\, 2018 2:30 5:00 pm \n\n6 wines will be available to preview and purchase\, at special\, event only pricing*\, Just in time for the holidays.\n\n$10 fee covers the tasting\, and will be applied towards wine purchases. \n\nfeatured wines include:\n\nNaveran vintage brut cava bubbly \n\nMoo-buzz Monterey chardonnay\n\nDavid hill estate pinot noir\n\nOregon territory tempranillo\n\nGuardian cellars newsprint red\n\nHanatoro walla walla cabernet
X-ALT-DESC;FMTTYPE=text/html:Holiday wine gala!!!&nbsp\;<br />\nNovember 17th\, 2018 2:30&mdash\;5:00 pm&nbsp\;<br />\n6 wines will be available to preview and purchase\, at special\, event only pricing*\, Just in time for the holidays.<br />\n$10 fee covers the tasting\, and will be applied towards wine purchases.&nbsp\;<br />\nfeatured wines include:<br />\nNaveran vintage brut cava bubbly&nbsp\;<br />\nMoo-buzz Monterey chardonnay<br />\nDavid hill estate pinot noir<br />\nOregon territory tempranillo<br />\nGuardian cellars newsprint red<br />\nHanatoro walla walla cabernet&nbsp\;
LOCATION:Non La Vietnamese Cuisine 18041 SW Lower Boones Ferry Rd Ste 1A Tigard\, Or 97224 nonlarestaurants.com
UID:e.2305.9992
SEQUENCE:3
DTSTAMP:20260420T154330Z
URL:https://chamber.tualatinchamber.com/events/details/holiday-wine-gala-hosted-by-non-la-vietnamese-cuisine-9992
END:VEVENT

END:VCALENDAR
