BEGIN:VCALENDAR
VERSION:2.0
PRODID:-//ChamberMaster//Event Calendar 2.0//EN
METHOD:PUBLISH
X-PUBLISHED-TTL:P3D
REFRESH-INTERVAL:P3D
CALSCALE:GREGORIAN
BEGIN:VEVENT
DTSTART:20180912T143000Z
DTEND:20180912T160000Z
X-MICROSOFT-CDO-ALLDAYEVENT:FALSE
SUMMARY:Health & Wellness Wednesday - Oregon Eye Specialists
DESCRIPTION:We are happy to announce the beginning of a new program\, Health & Wellness Wednesday! This power-packed hour is focused on health care partners and Tualatin community citizens wanting to network with other health care professionals while learning about the medical specialties available in our community.\n\n\n\nWe are kicking off with a presentation by Dr. Dinelli Monson of Oregon Eye Specialists\, PC titled "Shining a Light on Eye Wellness." Attendance is FREE\, for members & non-members. Please bring guests! We do request that you RSVP.
X-ALT-DESC;FMTTYPE=text/html:We are happy to announce the beginning of a new program\, Health &amp\; Wellness Wednesday! This power-packed hour is focused on health care partners and Tualatin community citizens wanting to network with other health care professionals while learning about the medical specialties available in our community.<br />\n<br />\nWe are kicking off with a presentation by Dr. Dinelli Monson of Oregon Eye Specialists\, PC titled &quot\;Shining a Light on Eye Wellness.&quot\; Attendance is FREE\, for members &amp\; non-members. Please bring guests! We do request that you RSVP.
LOCATION:Oregon Eye Specialists 19250 SW 65th Ave #215 Tualatin\, OR 97062
UID:e.2305.9533
SEQUENCE:3
DTSTAMP:20260420T122050Z
URL:https://chamber.tualatinchamber.com/events/details/health-wellness-wednesday-oregon-eye-specialists-9533
END:VEVENT

END:VCALENDAR
