BEGIN:VCALENDAR
VERSION:2.0
PRODID:-//ChamberMaster//Event Calendar 2.0//EN
METHOD:PUBLISH
X-PUBLISHED-TTL:P3D
REFRESH-INTERVAL:P3D
CALSCALE:GREGORIAN
BEGIN:VEVENT
DTSTART:20281115T161500Z
DTEND:20281115T170000Z
X-MICROSOFT-CDO-ALLDAYEVENT:FALSE
SUMMARY:Health & Wellness Committee Monthly Meeting
DESCRIPTION:Health and Wellness Committee. Interested in being on the Health and Wellness Committee? Contact the Chamber office.
X-ALT-DESC;FMTTYPE=text/html:Health and Wellness Committee. Interested in being on the Health and Wellness Committee? Contact the Chamber office.
LOCATION:
UID:e.2305.13520
SEQUENCE:3
DTSTAMP:20260424T135655Z
URL:https://chamber.tualatinchamber.com/events/details/health-wellness-committee-monthly-meeting-11-15-2028-13520
END:VEVENT

END:VCALENDAR
