BEGIN:VCALENDAR
VERSION:2.0
PRODID:-//ChamberMaster//Event Calendar 2.0//EN
METHOD:PUBLISH
X-PUBLISHED-TTL:P3D
REFRESH-INTERVAL:P3D
CALSCALE:GREGORIAN
BEGIN:VEVENT
DTSTART:20190405T000000Z
DTEND:20190405T020000Z
X-MICROSOFT-CDO-ALLDAYEVENT:FALSE
SUMMARY:Health and Wellness OPEN House
DESCRIPTION:Drop on By for samples\, Q & A's\, and consultations from the Experts. Appetizers\, Wine\, and raffle prizes throughout the event.
X-ALT-DESC;FMTTYPE=text/html:Drop on By for samples\, Q &amp\; A&rsquo\;s\, and consultations from the Experts. Appetizers\, Wine\, and raffle prizes throughout the event.
LOCATION:7180 SW Fir Loop STE H190
UID:e.2305.10193
SEQUENCE:3
DTSTAMP:20260420T132453Z
URL:https://chamber.tualatinchamber.com/events/details/health-and-wellness-open-house-10193
END:VEVENT

END:VCALENDAR
