BEGIN:VCALENDAR
VERSION:2.0
PRODID:-//ChamberMaster//Event Calendar 2.0//EN
METHOD:PUBLISH
X-PUBLISHED-TTL:P3D
REFRESH-INTERVAL:P3D
CALSCALE:GREGORIAN
BEGIN:VEVENT
DTSTART:20190124T013000Z
DTEND:20190124T033000Z
X-MICROSOFT-CDO-ALLDAYEVENT:FALSE
SUMMARY:Goodbye Party for Joel Saxe
DESCRIPTION:We couldn't be happier for one of our outstanding\, loyal\, and exceptional members\, Joel Saxe\, for his upcoming move. Joel has been a dedicated volunteer wth the Chamber and the community. With a passion for helping his customers be the best they can be\, inside and out.\n\n\n\nThank you Joel\, we will miss you!\n\n\n\nDinner will be half off for Chamber Members on the evening of January 23 at Izumi Japanese Steakhouse.
X-ALT-DESC;FMTTYPE=text/html:We couldn&#39\;t be happier for one of our outstanding\, loyal\, and exceptional members\, Joel Saxe\, for his upcoming move. Joel has been a dedicated volunteer wth the Chamber and the community. With a passion for helping his customers be the best they can be\, inside and out.<br />\n<br />\nThank you Joel\, we will miss you!<br />\n<br />\nDinner will be half off for Chamber Members on the evening of January 23 at Izumi Japanese Steakhouse.
LOCATION:Izumi Japanese Steakhouse 8125 SW Nyberg St Tualatin\, OR 97062
UID:e.2305.10148
SEQUENCE:3
DTSTAMP:20260420T192441Z
URL:https://chamber.tualatinchamber.com/events/details/goodbye-party-for-joel-saxe-10148
END:VEVENT

END:VCALENDAR
