BEGIN:VCALENDAR
VERSION:2.0
PRODID:-//ChamberMaster//Event Calendar 2.0//EN
METHOD:PUBLISH
X-PUBLISHED-TTL:P3D
REFRESH-INTERVAL:P3D
CALSCALE:GREGORIAN
BEGIN:VEVENT
DTSTART:20181102T220000Z
DTEND:20181103T010000Z
X-MICROSOFT-CDO-ALLDAYEVENT:FALSE
SUMMARY:Friends of the Tualatin Library Used Book Sale-Don't Miss It!
DESCRIPTION:If you want it\, we probably have it!   A recent avalanche of donations will give shoppers the chance to pick up loads of books and media materials at the Friends of the Tualatin Library Used Book Sale. This sale will include plenty of books for children\, Christmas and holiday themed items\, and a huge selection of biographies withdrawn from the library at bargain prices. Don't miss the usual offering of adult fiction and non-fiction\, DVDs\, audiobooks\, and music CDs.\n\n \n\nMost book prices are in the 50 cent to $2 range except for some especially nice books and DVDs for $2-5.  During Sunday sale hours\, regularly priced books\, DVDs\, Audiobooks\, and CDs will be $3 for a bag and special priced items with a yellow tag will be 50% off.  \n\n \n\nCredit cards\, cash\, and checks are accepted for payment.  For questions or more information\, visit our website at www.friendsoftualatinlibrary.org
X-ALT-DESC;FMTTYPE=text/html:If you want it\, we probably have it!&nbsp\;&nbsp\; A recent avalanche of donations will give shoppers the chance to pick up loads of books and media materials at the Friends of the Tualatin Library Used Book Sale.&nbsp\;This sale will include plenty of books for children\, Christmas and holiday themed items\, and a huge selection of biographies withdrawn from the library at bargain prices. Don&rsquo\;t miss the usual offering of adult fiction and non-fiction\, DVDs\, audiobooks\, and music CDs.<br />\n&nbsp\;<br />\nMost book prices are in the 50 cent to $2 range except for some especially nice books and DVDs for $2-5.&nbsp\; <em>During Sunday sale hours\, regularly priced books\, DVDs\, Audiobooks\, and CDs will be $3 for a bag and special priced items with a yellow tag will be 50% off.</em>&nbsp\;&nbsp\;<br />\n&nbsp\;<br />\nCredit cards\, cash\, and checks are accepted for payment.&nbsp\; For questions or more information\, visit our website at <u><span style="color:blue">www.friendsoftualatinlibrary.org</span></u><br />\n&nbsp\;<br />\n&nbsp\;<br />\n&nbsp\;<br />\n&nbsp\;<br />\n&nbsp\;<br />\n&nbsp\;
LOCATION:Community Room of the Tualatin Public Library 18878 SW Martinazzi Ave. Tualatin\, OR 97062
UID:e.2305.9965
SEQUENCE:3
DTSTAMP:20260420T172456Z
URL:https://chamber.tualatinchamber.com/events/details/friends-of-the-tualatin-library-used-book-sale-don-t-miss-it-11-02-2018-9965
END:VEVENT

END:VCALENDAR
