BEGIN:VCALENDAR
VERSION:2.0
PRODID:-//ChamberMaster//Event Calendar 2.0//EN
METHOD:PUBLISH
X-PUBLISHED-TTL:P3D
REFRESH-INTERVAL:P3D
CALSCALE:GREGORIAN
BEGIN:VEVENT
DTSTART:20181026T010000Z
DTEND:20181026T030000Z
X-MICROSOFT-CDO-ALLDAYEVENT:FALSE
SUMMARY:Fighting Cancer in the Kitchen
DESCRIPTION:October is Breast Cancer Awareness Month! This is a great time to learn more about how to lower your risk to the most common cancer. This class will take a look at ways you can change your diet to impove your chances of cancer resistance! What will be included: 1. Learn the most current research + recommendations for oncology nutrition from Medical Nutrition Specialist Megan Gardner\, MS\, CNS\, CPT\, FNS 2. Hear about best practices + resources to support cancer resistance and quality of life during + after treatment 3. Watch\, taste + enjoy a 4-course\, chef-inspired + cooked meal sampler by chef Sonja Andersen 4. Leave empowered with great tools + recipes to recreate at home! 5. Raffle prizes\, experiments\, nutrition reference guide and more We will be using vegan mineral broth as our base but we will have bone broth available for sipping.
X-ALT-DESC;FMTTYPE=text/html:October is Breast Cancer Awareness Month! This is a great time to learn more about how to lower your risk to the most common cancer. This class will take a look at ways you can change your diet to impove your chances of cancer resistance! What will be included: 1. Learn the most current research + recommendations for oncology nutrition from Medical Nutrition Specialist Megan Gardner\, MS\, CNS\, CPT\, FNS 2. Hear about best practices + resources to support cancer resistance and quality of life during + after treatment 3. Watch\, taste + enjoy a 4-course\, chef-inspired + cooked meal sampler by chef Sonja Andersen 4. Leave empowered with great tools + recipes to recreate at home! 5. Raffle prizes\, experiments\, nutrition reference guide and more We will be using vegan mineral broth as our base but we will have bone broth available for sipping.
LOCATION:Life Changing Dinners 7150 SW Hampton St #107 Tigard\, OR 97223
UID:e.2305.9987
SEQUENCE:3
DTSTAMP:20260420T135029Z
URL:https://chamber.tualatinchamber.com/events/details/fighting-cancer-in-the-kitchen-9987
END:VEVENT

END:VCALENDAR
