BEGIN:VCALENDAR
VERSION:2.0
PRODID:-//ChamberMaster//Event Calendar 2.0//EN
METHOD:PUBLISH
X-PUBLISHED-TTL:P3D
REFRESH-INTERVAL:P3D
CALSCALE:GREGORIAN
BEGIN:VEVENT
DTSTART:20180918T010000Z
DTEND:20180918T020000Z
X-MICROSOFT-CDO-ALLDAYEVENT:FALSE
SUMMARY:Congresswoman Bonamici - Town Hall Meeting
DESCRIPTION:This is a pivotal time in our country on many issues\, so it is important for people to participate in our democracy and make their voices heard. At my town hall meetings\, I listen to the people I represent about what is happening in your community and discuss how I can best address your concerns in Congress. In recent months many Oregonians have contacted me about protecting the environment\, preventing gun violence\, improving access to health care\, strengthening retirement security\, ending family separation\, and holding the Trump Administration accountable. This September I'll hold six town hall meetings across Northwest Oregon. Please join me in your community to discuss the issues you care about.
X-ALT-DESC;FMTTYPE=text/html:<span style="font-size:12px\;"><span style="font-family:arial\;"><span style="color:#313941\;">This is a pivotal time in our country on many issues\, so it is important for people to participate in our democracy and make their voices heard. At my town hall meetings\, I listen to the people I represent about what is happening in your community and discuss how I can best address your concerns in Congress. In recent months many Oregonians have contacted me about protecting the environment\, preventing gun violence\, improving access to health care\, strengthening retirement security\, ending family separation\, and holding the Trump Administration accountable. This September I&rsquo\;ll hold six town hall meetings across Northwest Oregon. Please join me in your community to discuss the issues you care about.&nbsp\;</span></span></span>
LOCATION:Tualatin High School Auditorium 22300 SW Boones Ferry Rd Tualatin\, OR 97062
UID:e.2305.9543
SEQUENCE:3
DTSTAMP:20260420T122108Z
URL:https://chamber.tualatinchamber.com/events/details/congresswoman-bonamici-town-hall-meeting-9543
END:VEVENT

END:VCALENDAR
