BEGIN:VCALENDAR
VERSION:2.0
PRODID:-//ChamberMaster//Event Calendar 2.0//EN
METHOD:PUBLISH
X-PUBLISHED-TTL:P3D
REFRESH-INTERVAL:P3D
CALSCALE:GREGORIAN
BEGIN:VEVENT
DTSTART:20190926T143000Z
DTEND:20190926T160000Z
X-MICROSOFT-CDO-ALLDAYEVENT:FALSE
SUMMARY:Community Conversation on #WorkReady
DESCRIPTION:Greetings\,\n\n\n\nPlease join us on Thursday\, Sept. 26th from 7:30-9:00 am\, for a Community Conversation on Workforce Development. We're on a mission to change the way students\, parents\, educators and our community thinks about CTE (Career & Technical Education) and the skills needed for the jobs of today and into the future. We're working very closely with the Tigard Tualatin School District on the roll-out of a program called #WorkReady. Our Superintendent\, Dr. Sue Rieke-Smith\, helped develop and launch this program at her last position in Springfield\, OR. (see attached) We've already held the 8th grade Career Exploration Day with 800 students from Hazelbrook Middle School\, and as many of you know ..it was a huge success. \n\n\n\nOur #WorkReady Community Conversation will convene Key Employers\, Leaders and Influencers of the area to see how we can take this program district wide. It will provide students other options besides the working in "minimum wage jobs for life" or "taking on the debt of a four+ year degree" that may or may not provide them with most needed life skills. With your help\, we can CHANGE the FUTURE.\n\n\n\nClick Here - #WorkReady Springfield Chamber Doc
X-ALT-DESC;FMTTYPE=text/html:Greetings\,<br />\n<br />\nPlease join us on Thursday\, Sept. 26th from 7:30-9:00 am\, for a Community Conversation on Workforce Development. We&rsquo\;re on a mission to change the way students\, parents\, educators and our community thinks about CTE (Career &amp\; Technical Education) and the skills needed for the jobs of today and into the future. We&rsquo\;re working very closely with the Tigard Tualatin School District on the roll-out of a program called #WorkReady. Our Superintendent\, Dr. Sue Rieke-Smith\, helped develop and launch this program at her last position in Springfield\, OR. (see attached) We&rsquo\;ve already held the 8th grade Career Exploration Day with 800 students from Hazelbrook Middle School\, and as many of you know&hellip\;..it was a huge success.&nbsp\;<br />\n<br />\nOur #WorkReady Community Conversation will convene Key Employers\, Leaders and Influencers of the area to see how we can take this program district wide. It will provide students other options besides the working in &ldquo\;minimum wage jobs for life&rdquo\; or &ldquo\;taking on the debt of a four+ year degree&rdquo\; that may or may not provide them with most needed life skills. With your help\, we can CHANGE the FUTURE.<br />\n<br />\n<a href="https://chambermaster.blob.core.windows.net/userfiles/UserFiles/chambers/2305/File/WorkReady-SpringfieldChamber-v2.pdf">Click Here</a>&nbsp\;-&nbsp\;#WorkReady Springfield Chamber Doc
LOCATION:Community Room at Marquis Tualatin 19805 SW Boones Ferry Rd Tualatin\, OR. 97062
UID:e.2305.10410
SEQUENCE:3
DTSTAMP:20260423T070612Z
URL:https://chamber.tualatinchamber.com/events/details/community-conversation-on-workready-10410
END:VEVENT

END:VCALENDAR
