BEGIN:VCALENDAR
VERSION:2.0
PRODID:-//ChamberMaster//Event Calendar 2.0//EN
METHOD:PUBLISH
X-PUBLISHED-TTL:P3D
REFRESH-INTERVAL:P3D
CALSCALE:GREGORIAN
BEGIN:VEVENT
DTSTART:20181129T010000Z
DTEND:20181129T030000Z
X-MICROSOFT-CDO-ALLDAYEVENT:FALSE
SUMMARY:Collection Connection After Hours Networking
DESCRIPTION:Collection Connection began in 1993 when Kevin Stewart\, the owner\, sought to fill a need he saw in the framing and memorabilia industry. Unsatisfied with the quality and price of the work he was seeing in the Northwest\, Collection Connection quickly evolved into a full-service frame shop specializing in high-end memorabilia\, custom layout\, and design work.\n\nToday\, Collection Connection offers full-service framing and memorabilia sourcing to corporate entities\, retail customers and private parties alike. All at wholesale pricing.\n\nRaffle Prizes Include:\n\n- Stadium Panorama (OSU or UofO)\n\n- 2018 College World Series Collage\n\n- Framed Duck House Poster\n\n- $50 Gift Certificate
X-ALT-DESC;FMTTYPE=text/html:<p style="box-sizing: border-box\; margin: 0px 0px 9px\; font-size: 1rem\; line-height: 1.5\; font-family: &quot\;Helvetica Neue&quot\;\, Helvetica\, Arial\, sans-serif\;"><span style="font-size:14px\;">Collection Connection began in 1993 when Kevin Stewart\, the owner\, sought to fill a need he saw in the framing and memorabilia industry. Unsatisfied with the quality and price of the work he was seeing in the Northwest\, Collection Connection quickly evolved into a full-service frame shop specializing in high-end memorabilia\, custom layout\, and design work.</span></p>\n\n<p style="box-sizing: border-box\; margin: 0px 0px 9px\; font-size: 1rem\; line-height: 1.5\; font-family: &quot\;Helvetica Neue&quot\;\, Helvetica\, Arial\, sans-serif\;"><span style="font-size:14px\;">Today\, Collection Connection offers full-service framing and memorabilia sourcing to corporate entities\, retail customers and private parties alike. All at wholesale pricing.</span></p>\n\n<p style="box-sizing: border-box\; margin: 0px 0px 9px\; font-size: 1rem\; line-height: 1.5\; font-family: &quot\;Helvetica Neue&quot\;\, Helvetica\, Arial\, sans-serif\;"><span style="font-size:14px\;">Raffle Prizes Include:<br />\n- Stadium Panorama (OSU or UofO)<br />\n- 2018 College World Series Collage<br />\n- Framed Duck House Poster<br />\n- $50 Gift Certificate</span></p>\n
LOCATION:16700 SW 72nd Ave Portland\, OR 97224
UID:e.2305.10002
SEQUENCE:3
DTSTAMP:20260420T152523Z
URL:https://chamber.tualatinchamber.com/events/details/collection-connection-after-hours-networking-10002
END:VEVENT

END:VCALENDAR
