BEGIN:VCALENDAR
VERSION:2.0
PRODID:-//ChamberMaster//Event Calendar 2.0//EN
METHOD:PUBLISH
X-PUBLISHED-TTL:P3D
REFRESH-INTERVAL:P3D
CALSCALE:GREGORIAN
BEGIN:VEVENT
DTSTART:20190727T183000Z
DTEND:20190727T223000Z
X-MICROSOFT-CDO-ALLDAYEVENT:FALSE
SUMMARY:Car Show & BBQ
DESCRIPTION:Fundraiser of Meals On Wheels People!\n\n\n\n- Live Band!\n\n- Silent Auction (donations welcome)\n\n- Raffle\n\n- Awards\n\n\n\nHot Dog Meal $5\, Hamburger Meal $7
X-ALT-DESC;FMTTYPE=text/html:<span style="font-size:16px"><strong>Fundraiser of Meals On Wheels People!</strong><br />\n<br />\n- Live Band!<br />\n- Silent Auction (donations welcome)<br />\n- Raffle<br />\n- Awards<br />\n<br />\nHot Dog Meal $5\, Hamburger Meal $7</span>
LOCATION:Marquis Tualatin 19945 SW Boones Ferry Rd. Tualatin\, OR 97062
UID:e.2305.10242
SEQUENCE:3
DTSTAMP:20260422T090954Z
URL:https://chamber.tualatinchamber.com/events/details/car-show-bbq-07-27-2019-10242
END:VEVENT

END:VCALENDAR
