BEGIN:VCALENDAR
VERSION:2.0
PRODID:-//ChamberMaster//Event Calendar 2.0//EN
METHOD:PUBLISH
X-PUBLISHED-TTL:P3D
REFRESH-INTERVAL:P3D
CALSCALE:GREGORIAN
BEGIN:VEVENT
DTSTART:20181008T220000Z
DTEND:20181009T000000Z
X-MICROSOFT-CDO-ALLDAYEVENT:FALSE
SUMMARY:Candidates Forum hosted by Tualatin Aging Task Force
DESCRIPTION:Candidates will join the Task Force for an informal Questions and Answers session on topics affecting Tualatin's senior population\, including affordable housing\, local transit options\, and street/neighborhood safety. Public welcome.
X-ALT-DESC;FMTTYPE=text/html:Candidates will join the Task Force for an informal Questions and Answers session on topics affecting Tualatin&rsquo\;s senior population\, including affordable housing\, local transit options\, and street/neighborhood safety. Public welcome.
LOCATION:Juanita Pohl Center 8513 SW Tualatin Road\, Tualatin\, OR 97062
UID:e.2305.9962
SEQUENCE:3
DTSTAMP:20260420T134708Z
URL:https://chamber.tualatinchamber.com/events/details/candidates-forum-hosted-by-tualatin-aging-task-force-9962
END:VEVENT

END:VCALENDAR
