BEGIN:VCALENDAR
VERSION:2.0
PRODID:-//ChamberMaster//Event Calendar 2.0//EN
METHOD:PUBLISH
X-PUBLISHED-TTL:P3D
REFRESH-INTERVAL:P3D
CALSCALE:GREGORIAN
BEGIN:VEVENT
DTSTART:20190227T153000Z
DTEND:20190227T170000Z
X-MICROSOFT-CDO-ALLDAYEVENT:FALSE
SUMMARY:CANCELLED DUE TO ICY CONDITIONS - Health & Wellness Wednesday - Marquis Tualatin Post-Acute Rehab
DESCRIPTION:THIS EVENT HAS BEEN CANCELLED DUE TO ICY CONDITIONS! \n\n\n\nWe will reschedule\, and post the new date on our social media pages as well as on our website.\n\n \n\nOur mission is to promote the sharing of health-related resources and information while providing a forum for networking and education for local traditional and alternative health care professionals.\n\n\n\nThis power-packed hour is focused on health care partners and Tualatin community citizens wanting to network with other health care professionals while learning about the medical specialties available in our community. Attendance is FREE\, for members & non-members. Please bring guests! We do request that you RSVP.\n\n\n\nThis February's presentation will be by Dr. John Pauley PT\, DPT titled "Skilled Therapy Programming and the Impact on the Aging Paradigm"\n\nAging is inevitable. It's happening at this very moment. Normal aging is seen throughout the community with individuals of all ages completing their activities of daily living. However\, what happens when the unthinkable happens and a loved one or an acquaintance gets injured and can no longer return home independently? Please join me\, John Pauley\, PT\, DPT\, in learning how a strong rehabilitation team utilizes cognitive screening tools (Cognitive Disabilities Model)\, balance programming (Standstrong)\, and chronic disease management programming (Take Charge/Take Heart) to optimize patient function\, facilitate safe discharge planning\, and reduce the risk of re-hospitalization.
X-ALT-DESC;FMTTYPE=text/html:<p style="text-align: center\;"><span style="color:#0000FF\;"><span style="font-size:18px\;"><span style="font-family: Lato\, Helvetica\, Arial\, sans-serif\; background-color: rgb(247\, 247\, 247)\;"><strong>THIS EVENT HAS BEEN CANCELLED DUE TO ICY CONDITIONS!&nbsp\;</strong></span></span></span><br />\n<br />\n<span style="font-size:14px\;"><span style="font-family: Lato\, Helvetica\, Arial\, sans-serif\; background-color: rgb(247\, 247\, 247)\;">We will reschedule\, and post the new date on our social media pages as well as on our website.</span></span><br />\n&nbsp\;</p>\n\n<p><span style="font-size:14px\;"><span style="font-family: Lato\, Helvetica\, Arial\, sans-serif\; background-color: rgb(247\, 247\, 247)\;">Our mission is to promote the sharing of health-related resources and information while providing a forum for networking and education for local traditional and alternative health care professionals.</span><br />\n<br />\n<span style="font-family: Arial\, Helvetica\, sans-serif\; background-color: rgb(247\, 247\, 247)\;">This power-packed hour is focused on health care partners and Tualatin community citizens wanting to network with other health care professionals while learning about the medical specialties available in our community.&nbsp\;Attendance is FREE\, for members &amp\; non-members. Please bring guests! We do request that you RSVP.</span><br style="bottom: auto\; box-sizing: content-box\; clear: none\; color: rgb(68\, 68\, 68)\; content: normal\; direction: inherit\; display: inline\; empty-cells: show\; float: none\; font-variant-numeric: inherit\; font-variant-east-asian: inherit\; font-stretch: inherit\; font-size: 14px\; font-family: Arial\, Helvetica\, sans-serif\; left: auto\; line-height: inherit\; margin: 0px\; max-height: none\; max-width: none\; min-height: initial\; min-width: initial\; opacity: 1\; outline-offset: 0px\; overflow: visible\; padding: 0px\; position: static\; resize: none\; right: auto\; table-layout: auto\; text-overflow: clip\; top: auto\; vertical-align: baseline\; visibility: inherit\; word-break: inherit\; overflow-wrap: inherit\; z-index: auto\; background: none rgb(247\, 247\, 247)\; border: none\; border-collapse: separate\; border-radius: 0px\; height: auto\; width: auto\;" />\n<br style="bottom: auto\; box-sizing: content-box\; clear: none\; color: rgb(68\, 68\, 68)\; content: normal\; direction: inherit\; display: inline\; empty-cells: show\; float: none\; font-variant-numeric: inherit\; font-variant-east-asian: inherit\; font-stretch: inherit\; font-size: 14px\; font-family: Arial\, Helvetica\, sans-serif\; left: auto\; line-height: inherit\; margin: 0px\; max-height: none\; max-width: none\; min-height: initial\; min-width: initial\; opacity: 1\; outline-offset: 0px\; overflow: visible\; padding: 0px\; position: static\; resize: none\; right: auto\; table-layout: auto\; text-overflow: clip\; top: auto\; vertical-align: baseline\; visibility: inherit\; word-break: inherit\; overflow-wrap: inherit\; z-index: auto\; background: none rgb(247\, 247\, 247)\; border: none\; border-collapse: separate\; border-radius: 0px\; height: auto\; width: auto\;" />\n<span style="font-family: Arial\, Helvetica\, sans-serif\; background-color: rgb(247\, 247\, 247)\;">This February&#39\;s presentation will be by Dr. John Pauley PT\, DPT titled &quot\;Skilled Therapy Programming and the Impact on the Aging Paradigm&quot\;</span></span></p>\n\n<p><span style="font-size:14px\;"><span style="font-family:arial\;">Aging is inevitable. It&#39\;s happening at this very moment. Normal aging is seen throughout the community with individuals of all ages completing their activities of daily living. However\, what happens when the unthinkable happens and a loved one or an acquaintance gets injured and can no longer return home independently? Please join me\, John Pauley\, PT\, DPT\, in learning how a strong rehabilitation team utilizes cognitive screening tools (Cognitive Disabilities Model)\, balance programming (Standstrong)\, and chronic disease management programming (Take Charge/Take Heart) to optimize patient function\, facilitate safe discharge planning\, and reduce the risk of re-hospitalization.</span></span></p>\n
LOCATION:Marquis Tualatin Post-Acute Rehab 19945 SW Boones Ferry Rd Tualatin\, OR 97062
UID:e.2305.10048
SEQUENCE:3
DTSTAMP:20260420T163419Z
URL:https://chamber.tualatinchamber.com/events/details/cancelled-due-to-icy-conditions-health-wellness-wednesday-marquis-tualatin-post-acute-rehab-10048
END:VEVENT

END:VCALENDAR
