BEGIN:VCALENDAR
VERSION:2.0
PRODID:-//ChamberMaster//Event Calendar 2.0//EN
METHOD:PUBLISH
X-PUBLISHED-TTL:P3D
REFRESH-INTERVAL:P3D
CALSCALE:GREGORIAN
BEGIN:VEVENT
DTSTART:20190510T163000Z
DTEND:20190510T190000Z
X-MICROSOFT-CDO-ALLDAYEVENT:FALSE
SUMMARY:Business Walk - Assessing Community Business Health
DESCRIPTION:Business Walks are part of a "best practice" strategy for business retention and expansion.  Business Walks help initiate contact with businesses in the community and act as the start of "an ongoing conversation" to help get businesses the resources they need to succeed.  This community-based program brings together economic development agencies and companies throughout the region.  The program helps companies identify barriers and then seek solutions for the survival and growth of local business.  In addition\, they contribute to the sustainability and expansion of the region's economy.
X-ALT-DESC;FMTTYPE=text/html:Business Walks are part of&nbsp\;a &quot\;best practice&quot\; strategy for business retention and expansion.&nbsp\; Business Walks help initiate contact with businesses in the community and act as&nbsp\;the start of &quot\;an ongoing conversation&quot\; to help get businesses the resources they need to succeed.&nbsp\; This community-based program brings together economic development agencies and companies throughout the region.&nbsp\; The program helps companies identify barriers and then seek solutions for the survival and growth of local business.&nbsp\; In addition\, they contribute to the sustainability&nbsp\;and expansion of the region&#39\;s economy.
LOCATION:The city of Tualatin will be divided into sections and categories. A map will be provided for each team. Tualatin Chamber of Commerce 8101 SW Nyberg St Suite 102 Tualatin\, OR 97062
UID:e.2305.10197
SEQUENCE:3
DTSTAMP:20260420T115400Z
URL:https://chamber.tualatinchamber.com/events/details/business-walk-assessing-community-business-health-10197
END:VEVENT

END:VCALENDAR
